BEGIN:VCALENDAR
VERSION:2.0
PRODID:-//Wrington Village - ECPv6.15.20//NONSGML v1.0//EN
CALSCALE:GREGORIAN
METHOD:PUBLISH
X-WR-CALNAME:Wrington Village
X-ORIGINAL-URL:https://wringtonvillage.com
X-WR-CALDESC:Events for Wrington Village
REFRESH-INTERVAL;VALUE=DURATION:PT1H
X-Robots-Tag:noindex
X-PUBLISHED-TTL:PT1H
BEGIN:VTIMEZONE
TZID:Europe/London
BEGIN:DAYLIGHT
TZOFFSETFROM:+0000
TZOFFSETTO:+0100
TZNAME:BST
DTSTART:20240331T010000
END:DAYLIGHT
BEGIN:STANDARD
TZOFFSETFROM:+0100
TZOFFSETTO:+0000
TZNAME:GMT
DTSTART:20241027T010000
END:STANDARD
BEGIN:DAYLIGHT
TZOFFSETFROM:+0000
TZOFFSETTO:+0100
TZNAME:BST
DTSTART:20250330T010000
END:DAYLIGHT
BEGIN:STANDARD
TZOFFSETFROM:+0100
TZOFFSETTO:+0000
TZNAME:GMT
DTSTART:20251026T010000
END:STANDARD
BEGIN:DAYLIGHT
TZOFFSETFROM:+0000
TZOFFSETTO:+0100
TZNAME:BST
DTSTART:20260329T010000
END:DAYLIGHT
BEGIN:STANDARD
TZOFFSETFROM:+0100
TZOFFSETTO:+0000
TZNAME:GMT
DTSTART:20261025T010000
END:STANDARD
END:VTIMEZONE
BEGIN:VEVENT
DTSTART;TZID=Europe/London:20250604T080000
DTEND;TZID=Europe/London:20250604T170000
DTSTAMP:20260420T211441
CREATED:20250118T102033Z
LAST-MODIFIED:20250310T025425Z
UID:10000977-1749024000-1749056400@wringtonvillage.com
SUMMARY:What's on at the Mother Hen Cafe & Gifts
DESCRIPTION:Community living room\nFree hot drink tea/coffee  at Mother Hen for the over 65s through the national Warm room initiative xx\nPop along for a chat \, warm drink\, meet friends \, bring a book or play a game xxx
URL:https://wringtonvillage.com/event/whats-on-at-the-mother-hen-cafe-gifts-2/2025-06-04/
LOCATION:Mother Hen Coffee & Gifts\, Broad Street\, Wrington\, Bristol\, BS40 5LE\, United Kingdom
CATEGORIES:exclude
ATTACH;FMTTYPE=image/jpeg:https://wringtonvillage.com/wp-content/uploads/2025/01/Mother-hen-events.jpg
END:VEVENT
BEGIN:VEVENT
DTSTART;TZID=Europe/London:20250606T133000
DTEND;TZID=Europe/London:20250606T143000
DTSTAMP:20260420T211441
CREATED:20241118T082021Z
LAST-MODIFIED:20250310T025432Z
UID:10000132-1749216600-1749220200@wringtonvillage.com
SUMMARY:Singing for fun
DESCRIPTION:Please click here for our website \n 
URL:https://wringtonvillage.com/event/singing-for-fun/2025-06-06/
CATEGORIES:exclude
ATTACH;FMTTYPE=image/jpeg:https://wringtonvillage.com/wp-content/uploads/2024/11/Sing-for-Fun-poster-January-2024-1.jpeg
END:VEVENT
BEGIN:VEVENT
DTSTART;TZID=Europe/London:20250611T080000
DTEND;TZID=Europe/London:20250611T170000
DTSTAMP:20260420T211441
CREATED:20250118T102033Z
LAST-MODIFIED:20250310T025425Z
UID:10000978-1749628800-1749661200@wringtonvillage.com
SUMMARY:What's on at the Mother Hen Cafe & Gifts
DESCRIPTION:Community living room\nFree hot drink tea/coffee  at Mother Hen for the over 65s through the national Warm room initiative xx\nPop along for a chat \, warm drink\, meet friends \, bring a book or play a game xxx
URL:https://wringtonvillage.com/event/whats-on-at-the-mother-hen-cafe-gifts-2/2025-06-11/
LOCATION:Mother Hen Coffee & Gifts\, Broad Street\, Wrington\, Bristol\, BS40 5LE\, United Kingdom
CATEGORIES:exclude
ATTACH;FMTTYPE=image/jpeg:https://wringtonvillage.com/wp-content/uploads/2025/01/Mother-hen-events.jpg
END:VEVENT
BEGIN:VEVENT
DTSTART;TZID=Europe/London:20250613T133000
DTEND;TZID=Europe/London:20250613T143000
DTSTAMP:20260420T211441
CREATED:20241118T082021Z
LAST-MODIFIED:20250310T025432Z
UID:10000133-1749821400-1749825000@wringtonvillage.com
SUMMARY:Singing for fun
DESCRIPTION:Please click here for our website \n 
URL:https://wringtonvillage.com/event/singing-for-fun/2025-06-13/
CATEGORIES:exclude
ATTACH;FMTTYPE=image/jpeg:https://wringtonvillage.com/wp-content/uploads/2024/11/Sing-for-Fun-poster-January-2024-1.jpeg
END:VEVENT
BEGIN:VEVENT
DTSTART;TZID=Europe/London:20250618T080000
DTEND;TZID=Europe/London:20250618T170000
DTSTAMP:20260420T211441
CREATED:20250118T102033Z
LAST-MODIFIED:20250310T025425Z
UID:10000979-1750233600-1750266000@wringtonvillage.com
SUMMARY:What's on at the Mother Hen Cafe & Gifts
DESCRIPTION:Community living room\nFree hot drink tea/coffee  at Mother Hen for the over 65s through the national Warm room initiative xx\nPop along for a chat \, warm drink\, meet friends \, bring a book or play a game xxx
URL:https://wringtonvillage.com/event/whats-on-at-the-mother-hen-cafe-gifts-2/2025-06-18/
LOCATION:Mother Hen Coffee & Gifts\, Broad Street\, Wrington\, Bristol\, BS40 5LE\, United Kingdom
CATEGORIES:exclude
ATTACH;FMTTYPE=image/jpeg:https://wringtonvillage.com/wp-content/uploads/2025/01/Mother-hen-events.jpg
END:VEVENT
BEGIN:VEVENT
DTSTART;TZID=Europe/London:20250620T133000
DTEND;TZID=Europe/London:20250620T143000
DTSTAMP:20260420T211441
CREATED:20241118T082021Z
LAST-MODIFIED:20250310T025432Z
UID:10000134-1750426200-1750429800@wringtonvillage.com
SUMMARY:Singing for fun
DESCRIPTION:Please click here for our website \n 
URL:https://wringtonvillage.com/event/singing-for-fun/2025-06-20/
CATEGORIES:exclude
ATTACH;FMTTYPE=image/jpeg:https://wringtonvillage.com/wp-content/uploads/2024/11/Sing-for-Fun-poster-January-2024-1.jpeg
END:VEVENT
BEGIN:VEVENT
DTSTART;VALUE=DATE:20250621
DTEND;VALUE=DATE:20250622
DTSTAMP:20260420T211441
CREATED:20250302T233439Z
LAST-MODIFIED:20250310T025423Z
UID:10002232-1750464000-1750550399@wringtonvillage.com
SUMMARY:Redstock25-21-06-2025
DESCRIPTION:Get Ready for the Ultimate Music Experience! \nRedstock25 Music Festival is coming on June 21\, 2025\, and it’s going to be bigger and better than ever! \n Join us for an unforgettable day filled with incredible live performances from your favorite artists\, delicious food\, fun for the children and so much more!\n Our website is now live! Over the next few weeks we will be adding more content about what’s on\, but don’t miss out on our early bird ticket sale! Grab your tickets now at www.redstock.live\n\n\nTag your friends and get ready to rock out at Redstock25!  #Redstock25 #MusicFestival #EarlyBirdTickets #LiveMusic #FestivalFun\n\n\nSee you there!
URL:https://wringtonvillage.com/event/redstock25-21-06-2025/
LOCATION:Redhill village hall
CATEGORIES:exclude
ATTACH;FMTTYPE=image/jpeg:https://wringtonvillage.com/wp-content/uploads/2025/03/Redstock25.jpg
END:VEVENT
BEGIN:VEVENT
DTSTART;TZID=Europe/London:20250625T080000
DTEND;TZID=Europe/London:20250625T170000
DTSTAMP:20260420T211441
CREATED:20250118T102033Z
LAST-MODIFIED:20250310T025425Z
UID:10000980-1750838400-1750870800@wringtonvillage.com
SUMMARY:What's on at the Mother Hen Cafe & Gifts
DESCRIPTION:Community living room\nFree hot drink tea/coffee  at Mother Hen for the over 65s through the national Warm room initiative xx\nPop along for a chat \, warm drink\, meet friends \, bring a book or play a game xxx
URL:https://wringtonvillage.com/event/whats-on-at-the-mother-hen-cafe-gifts-2/2025-06-25/
LOCATION:Mother Hen Coffee & Gifts\, Broad Street\, Wrington\, Bristol\, BS40 5LE\, United Kingdom
CATEGORIES:exclude
ATTACH;FMTTYPE=image/jpeg:https://wringtonvillage.com/wp-content/uploads/2025/01/Mother-hen-events.jpg
END:VEVENT
BEGIN:VEVENT
DTSTART;TZID=Europe/London:20250627T133000
DTEND;TZID=Europe/London:20250627T143000
DTSTAMP:20260420T211441
CREATED:20241118T082021Z
LAST-MODIFIED:20250310T025432Z
UID:10000135-1751031000-1751034600@wringtonvillage.com
SUMMARY:Singing for fun
DESCRIPTION:Please click here for our website \n 
URL:https://wringtonvillage.com/event/singing-for-fun/2025-06-27/
CATEGORIES:exclude
ATTACH;FMTTYPE=image/jpeg:https://wringtonvillage.com/wp-content/uploads/2024/11/Sing-for-Fun-poster-January-2024-1.jpeg
END:VEVENT
END:VCALENDAR