BEGIN:VCALENDAR
VERSION:2.0
PRODID:-//Wrington Village - ECPv6.15.20//NONSGML v1.0//EN
CALSCALE:GREGORIAN
METHOD:PUBLISH
X-WR-CALNAME:Wrington Village
X-ORIGINAL-URL:https://wringtonvillage.com
X-WR-CALDESC:Events for Wrington Village
REFRESH-INTERVAL;VALUE=DURATION:PT1H
X-Robots-Tag:noindex
X-PUBLISHED-TTL:PT1H
BEGIN:VTIMEZONE
TZID:Europe/London
BEGIN:DAYLIGHT
TZOFFSETFROM:+0000
TZOFFSETTO:+0100
TZNAME:BST
DTSTART:20250330T010000
END:DAYLIGHT
BEGIN:STANDARD
TZOFFSETFROM:+0100
TZOFFSETTO:+0000
TZNAME:GMT
DTSTART:20251026T010000
END:STANDARD
BEGIN:DAYLIGHT
TZOFFSETFROM:+0000
TZOFFSETTO:+0100
TZNAME:BST
DTSTART:20260329T010000
END:DAYLIGHT
BEGIN:STANDARD
TZOFFSETFROM:+0100
TZOFFSETTO:+0000
TZNAME:GMT
DTSTART:20261025T010000
END:STANDARD
BEGIN:DAYLIGHT
TZOFFSETFROM:+0000
TZOFFSETTO:+0100
TZNAME:BST
DTSTART:20270328T010000
END:DAYLIGHT
BEGIN:STANDARD
TZOFFSETFROM:+0100
TZOFFSETTO:+0000
TZNAME:GMT
DTSTART:20271031T010000
END:STANDARD
END:VTIMEZONE
BEGIN:VEVENT
DTSTART;TZID=Europe/London:20260501T133000
DTEND;TZID=Europe/London:20260501T143000
DTSTAMP:20260419T135825
CREATED:20241118T082021Z
LAST-MODIFIED:20250310T025432Z
UID:10000179-1777642200-1777645800@wringtonvillage.com
SUMMARY:Singing for fun
DESCRIPTION:Please click here for our website \n 
URL:https://wringtonvillage.com/event/singing-for-fun/2026-05-01/
CATEGORIES:exclude
ATTACH;FMTTYPE=image/jpeg:https://wringtonvillage.com/wp-content/uploads/2024/11/Sing-for-Fun-poster-January-2024-1.jpeg
END:VEVENT
BEGIN:VEVENT
DTSTART;TZID=Europe/London:20260505T100000
DTEND;TZID=Europe/London:20260505T113000
DTSTAMP:20260419T135825
CREATED:20260105T083318Z
LAST-MODIFIED:20260105T083334Z
UID:10002857-1777975200-1777980600@wringtonvillage.com
SUMMARY:What's on at the Mother Hen Cafe & Gifts
DESCRIPTION:Community living room\nFree hot drink tea/coffee  at Mother Hen for the over 65s through the national Warm room initiative xx\nPop along for a chat \, warm drink\, meet friends \, bring a book or play a game xxx
URL:https://wringtonvillage.com/event/whats-on-at-the-mother-hen-cafe-gifts-2-2/2026-05-05/
LOCATION:Mother Hen Coffee & Gifts\, Broad Street\, Wrington\, Bristol\, BS40 5LE\, United Kingdom
CATEGORIES:exclude
ATTACH;FMTTYPE=image/jpeg:https://wringtonvillage.com/wp-content/uploads/2025/01/Mother-hen-events.jpg
END:VEVENT
BEGIN:VEVENT
DTSTART;TZID=Europe/London:20260508T133000
DTEND;TZID=Europe/London:20260508T143000
DTSTAMP:20260419T135825
CREATED:20241118T082021Z
LAST-MODIFIED:20250310T025432Z
UID:10000180-1778247000-1778250600@wringtonvillage.com
SUMMARY:Singing for fun
DESCRIPTION:Please click here for our website \n 
URL:https://wringtonvillage.com/event/singing-for-fun/2026-05-08/
CATEGORIES:exclude
ATTACH;FMTTYPE=image/jpeg:https://wringtonvillage.com/wp-content/uploads/2024/11/Sing-for-Fun-poster-January-2024-1.jpeg
END:VEVENT
BEGIN:VEVENT
DTSTART;TZID=Europe/London:20260512T100000
DTEND;TZID=Europe/London:20260512T113000
DTSTAMP:20260419T135825
CREATED:20260105T083318Z
LAST-MODIFIED:20260105T083334Z
UID:10002858-1778580000-1778585400@wringtonvillage.com
SUMMARY:What's on at the Mother Hen Cafe & Gifts
DESCRIPTION:Community living room\nFree hot drink tea/coffee  at Mother Hen for the over 65s through the national Warm room initiative xx\nPop along for a chat \, warm drink\, meet friends \, bring a book or play a game xxx
URL:https://wringtonvillage.com/event/whats-on-at-the-mother-hen-cafe-gifts-2-2/2026-05-12/
LOCATION:Mother Hen Coffee & Gifts\, Broad Street\, Wrington\, Bristol\, BS40 5LE\, United Kingdom
CATEGORIES:exclude
ATTACH;FMTTYPE=image/jpeg:https://wringtonvillage.com/wp-content/uploads/2025/01/Mother-hen-events.jpg
END:VEVENT
BEGIN:VEVENT
DTSTART;TZID=Europe/London:20260515T133000
DTEND;TZID=Europe/London:20260515T143000
DTSTAMP:20260419T135825
CREATED:20241118T082021Z
LAST-MODIFIED:20250310T025432Z
UID:10000181-1778851800-1778855400@wringtonvillage.com
SUMMARY:Singing for fun
DESCRIPTION:Please click here for our website \n 
URL:https://wringtonvillage.com/event/singing-for-fun/2026-05-15/
CATEGORIES:exclude
ATTACH;FMTTYPE=image/jpeg:https://wringtonvillage.com/wp-content/uploads/2024/11/Sing-for-Fun-poster-January-2024-1.jpeg
END:VEVENT
BEGIN:VEVENT
DTSTART;TZID=Europe/London:20260519T100000
DTEND;TZID=Europe/London:20260519T113000
DTSTAMP:20260419T135825
CREATED:20260105T083318Z
LAST-MODIFIED:20260105T083334Z
UID:10002859-1779184800-1779190200@wringtonvillage.com
SUMMARY:What's on at the Mother Hen Cafe & Gifts
DESCRIPTION:Community living room\nFree hot drink tea/coffee  at Mother Hen for the over 65s through the national Warm room initiative xx\nPop along for a chat \, warm drink\, meet friends \, bring a book or play a game xxx
URL:https://wringtonvillage.com/event/whats-on-at-the-mother-hen-cafe-gifts-2-2/2026-05-19/
LOCATION:Mother Hen Coffee & Gifts\, Broad Street\, Wrington\, Bristol\, BS40 5LE\, United Kingdom
CATEGORIES:exclude
ATTACH;FMTTYPE=image/jpeg:https://wringtonvillage.com/wp-content/uploads/2025/01/Mother-hen-events.jpg
END:VEVENT
BEGIN:VEVENT
DTSTART;TZID=Europe/London:20260522T133000
DTEND;TZID=Europe/London:20260522T143000
DTSTAMP:20260419T135825
CREATED:20241118T082021Z
LAST-MODIFIED:20250310T025432Z
UID:10000182-1779456600-1779460200@wringtonvillage.com
SUMMARY:Singing for fun
DESCRIPTION:Please click here for our website \n 
URL:https://wringtonvillage.com/event/singing-for-fun/2026-05-22/
CATEGORIES:exclude
ATTACH;FMTTYPE=image/jpeg:https://wringtonvillage.com/wp-content/uploads/2024/11/Sing-for-Fun-poster-January-2024-1.jpeg
END:VEVENT
BEGIN:VEVENT
DTSTART;TZID=Europe/London:20260526T100000
DTEND;TZID=Europe/London:20260526T113000
DTSTAMP:20260419T135825
CREATED:20260105T083318Z
LAST-MODIFIED:20260105T083334Z
UID:10002860-1779789600-1779795000@wringtonvillage.com
SUMMARY:What's on at the Mother Hen Cafe & Gifts
DESCRIPTION:Community living room\nFree hot drink tea/coffee  at Mother Hen for the over 65s through the national Warm room initiative xx\nPop along for a chat \, warm drink\, meet friends \, bring a book or play a game xxx
URL:https://wringtonvillage.com/event/whats-on-at-the-mother-hen-cafe-gifts-2-2/2026-05-26/
LOCATION:Mother Hen Coffee & Gifts\, Broad Street\, Wrington\, Bristol\, BS40 5LE\, United Kingdom
CATEGORIES:exclude
ATTACH;FMTTYPE=image/jpeg:https://wringtonvillage.com/wp-content/uploads/2025/01/Mother-hen-events.jpg
END:VEVENT
BEGIN:VEVENT
DTSTART;TZID=Europe/London:20260529T133000
DTEND;TZID=Europe/London:20260529T143000
DTSTAMP:20260419T135825
CREATED:20241118T082021Z
LAST-MODIFIED:20250310T025432Z
UID:10000183-1780061400-1780065000@wringtonvillage.com
SUMMARY:Singing for fun
DESCRIPTION:Please click here for our website \n 
URL:https://wringtonvillage.com/event/singing-for-fun/2026-05-29/
CATEGORIES:exclude
ATTACH;FMTTYPE=image/jpeg:https://wringtonvillage.com/wp-content/uploads/2024/11/Sing-for-Fun-poster-January-2024-1.jpeg
END:VEVENT
END:VCALENDAR