BEGIN:VCALENDAR
VERSION:2.0
PRODID:-//Wrington Village - ECPv6.15.20//NONSGML v1.0//EN
CALSCALE:GREGORIAN
METHOD:PUBLISH
X-ORIGINAL-URL:https://wringtonvillage.com
X-WR-CALDESC:Events for Wrington Village
REFRESH-INTERVAL;VALUE=DURATION:PT1H
X-Robots-Tag:noindex
X-PUBLISHED-TTL:PT1H
BEGIN:VTIMEZONE
TZID:Europe/London
BEGIN:DAYLIGHT
TZOFFSETFROM:+0000
TZOFFSETTO:+0100
TZNAME:BST
DTSTART:20270328T010000
END:DAYLIGHT
BEGIN:STANDARD
TZOFFSETFROM:+0100
TZOFFSETTO:+0000
TZNAME:GMT
DTSTART:20271031T010000
END:STANDARD
BEGIN:DAYLIGHT
TZOFFSETFROM:+0000
TZOFFSETTO:+0100
TZNAME:BST
DTSTART:20280326T010000
END:DAYLIGHT
BEGIN:STANDARD
TZOFFSETFROM:+0100
TZOFFSETTO:+0000
TZNAME:GMT
DTSTART:20281029T010000
END:STANDARD
BEGIN:DAYLIGHT
TZOFFSETFROM:+0000
TZOFFSETTO:+0100
TZNAME:BST
DTSTART:20290325T010000
END:DAYLIGHT
BEGIN:STANDARD
TZOFFSETFROM:+0100
TZOFFSETTO:+0000
TZNAME:GMT
DTSTART:20291028T010000
END:STANDARD
END:VTIMEZONE
BEGIN:VEVENT
DTSTART;TZID=Europe/London:20280303T133000
DTEND;TZID=Europe/London:20280303T143000
DTSTAMP:20260420T194912
CREATED:20241118T082021Z
LAST-MODIFIED:20250310T025432Z
UID:10000275-1835703000-1835706600@wringtonvillage.com
SUMMARY:Singing for fun
DESCRIPTION:Please click here for our website \n 
URL:https://wringtonvillage.com/event/singing-for-fun/2028-03-03/
CATEGORIES:exclude
ATTACH;FMTTYPE=image/jpeg:https://wringtonvillage.com/wp-content/uploads/2024/11/Sing-for-Fun-poster-January-2024-1.jpeg
END:VEVENT
BEGIN:VEVENT
DTSTART;TZID=Europe/London:20280307T100000
DTEND;TZID=Europe/London:20280307T113000
DTSTAMP:20260420T194912
CREATED:20260105T083318Z
LAST-MODIFIED:20260105T083334Z
UID:10002953-1836036000-1836041400@wringtonvillage.com
SUMMARY:What's on at the Mother Hen Cafe & Gifts
DESCRIPTION:Community living room\nFree hot drink tea/coffee  at Mother Hen for the over 65s through the national Warm room initiative xx\nPop along for a chat \, warm drink\, meet friends \, bring a book or play a game xxx
URL:https://wringtonvillage.com/event/whats-on-at-the-mother-hen-cafe-gifts-2-2/2028-03-07/
LOCATION:Mother Hen Coffee & Gifts\, Broad Street\, Wrington\, Bristol\, BS40 5LE\, United Kingdom
CATEGORIES:exclude
ATTACH;FMTTYPE=image/jpeg:https://wringtonvillage.com/wp-content/uploads/2025/01/Mother-hen-events.jpg
END:VEVENT
BEGIN:VEVENT
DTSTART;TZID=Europe/London:20280310T133000
DTEND;TZID=Europe/London:20280310T143000
DTSTAMP:20260420T194912
CREATED:20241118T082021Z
LAST-MODIFIED:20250310T025432Z
UID:10000276-1836307800-1836311400@wringtonvillage.com
SUMMARY:Singing for fun
DESCRIPTION:Please click here for our website \n 
URL:https://wringtonvillage.com/event/singing-for-fun/2028-03-10/
CATEGORIES:exclude
ATTACH;FMTTYPE=image/jpeg:https://wringtonvillage.com/wp-content/uploads/2024/11/Sing-for-Fun-poster-January-2024-1.jpeg
END:VEVENT
BEGIN:VEVENT
DTSTART;TZID=Europe/London:20280314T100000
DTEND;TZID=Europe/London:20280314T113000
DTSTAMP:20260420T194912
CREATED:20260105T083318Z
LAST-MODIFIED:20260105T083334Z
UID:10002954-1836640800-1836646200@wringtonvillage.com
SUMMARY:What's on at the Mother Hen Cafe & Gifts
DESCRIPTION:Community living room\nFree hot drink tea/coffee  at Mother Hen for the over 65s through the national Warm room initiative xx\nPop along for a chat \, warm drink\, meet friends \, bring a book or play a game xxx
URL:https://wringtonvillage.com/event/whats-on-at-the-mother-hen-cafe-gifts-2-2/2028-03-14/
LOCATION:Mother Hen Coffee & Gifts\, Broad Street\, Wrington\, Bristol\, BS40 5LE\, United Kingdom
CATEGORIES:exclude
ATTACH;FMTTYPE=image/jpeg:https://wringtonvillage.com/wp-content/uploads/2025/01/Mother-hen-events.jpg
END:VEVENT
BEGIN:VEVENT
DTSTART;TZID=Europe/London:20280317T133000
DTEND;TZID=Europe/London:20280317T143000
DTSTAMP:20260420T194912
CREATED:20241118T082021Z
LAST-MODIFIED:20250310T025432Z
UID:10000277-1836912600-1836916200@wringtonvillage.com
SUMMARY:Singing for fun
DESCRIPTION:Please click here for our website \n 
URL:https://wringtonvillage.com/event/singing-for-fun/2028-03-17/
CATEGORIES:exclude
ATTACH;FMTTYPE=image/jpeg:https://wringtonvillage.com/wp-content/uploads/2024/11/Sing-for-Fun-poster-January-2024-1.jpeg
END:VEVENT
BEGIN:VEVENT
DTSTART;TZID=Europe/London:20280321T100000
DTEND;TZID=Europe/London:20280321T113000
DTSTAMP:20260420T194912
CREATED:20260105T083318Z
LAST-MODIFIED:20260105T083334Z
UID:10002955-1837245600-1837251000@wringtonvillage.com
SUMMARY:What's on at the Mother Hen Cafe & Gifts
DESCRIPTION:Community living room\nFree hot drink tea/coffee  at Mother Hen for the over 65s through the national Warm room initiative xx\nPop along for a chat \, warm drink\, meet friends \, bring a book or play a game xxx
URL:https://wringtonvillage.com/event/whats-on-at-the-mother-hen-cafe-gifts-2-2/2028-03-21/
LOCATION:Mother Hen Coffee & Gifts\, Broad Street\, Wrington\, Bristol\, BS40 5LE\, United Kingdom
CATEGORIES:exclude
ATTACH;FMTTYPE=image/jpeg:https://wringtonvillage.com/wp-content/uploads/2025/01/Mother-hen-events.jpg
END:VEVENT
BEGIN:VEVENT
DTSTART;TZID=Europe/London:20280324T133000
DTEND;TZID=Europe/London:20280324T143000
DTSTAMP:20260420T194912
CREATED:20241118T082021Z
LAST-MODIFIED:20250310T025432Z
UID:10000278-1837517400-1837521000@wringtonvillage.com
SUMMARY:Singing for fun
DESCRIPTION:Please click here for our website \n 
URL:https://wringtonvillage.com/event/singing-for-fun/2028-03-24/
CATEGORIES:exclude
ATTACH;FMTTYPE=image/jpeg:https://wringtonvillage.com/wp-content/uploads/2024/11/Sing-for-Fun-poster-January-2024-1.jpeg
END:VEVENT
BEGIN:VEVENT
DTSTART;TZID=Europe/London:20280328T100000
DTEND;TZID=Europe/London:20280328T113000
DTSTAMP:20260420T194912
CREATED:20260105T083318Z
LAST-MODIFIED:20260105T083334Z
UID:10002956-1837850400-1837855800@wringtonvillage.com
SUMMARY:What's on at the Mother Hen Cafe & Gifts
DESCRIPTION:Community living room\nFree hot drink tea/coffee  at Mother Hen for the over 65s through the national Warm room initiative xx\nPop along for a chat \, warm drink\, meet friends \, bring a book or play a game xxx
URL:https://wringtonvillage.com/event/whats-on-at-the-mother-hen-cafe-gifts-2-2/2028-03-28/
LOCATION:Mother Hen Coffee & Gifts\, Broad Street\, Wrington\, Bristol\, BS40 5LE\, United Kingdom
CATEGORIES:exclude
ATTACH;FMTTYPE=image/jpeg:https://wringtonvillage.com/wp-content/uploads/2025/01/Mother-hen-events.jpg
END:VEVENT
BEGIN:VEVENT
DTSTART;TZID=Europe/London:20280331T133000
DTEND;TZID=Europe/London:20280331T143000
DTSTAMP:20260420T194912
CREATED:20241118T082021Z
LAST-MODIFIED:20250310T025432Z
UID:10000279-1838122200-1838125800@wringtonvillage.com
SUMMARY:Singing for fun
DESCRIPTION:Please click here for our website \n 
URL:https://wringtonvillage.com/event/singing-for-fun/2028-03-31/
CATEGORIES:exclude
ATTACH;FMTTYPE=image/jpeg:https://wringtonvillage.com/wp-content/uploads/2024/11/Sing-for-Fun-poster-January-2024-1.jpeg
END:VEVENT
END:VCALENDAR