BEGIN:VCALENDAR
VERSION:2.0
PRODID:-//Wrington Village - ECPv6.15.20//NONSGML v1.0//EN
CALSCALE:GREGORIAN
METHOD:PUBLISH
X-WR-CALNAME:Wrington Village
X-ORIGINAL-URL:https://wringtonvillage.com
X-WR-CALDESC:Events for Wrington Village
REFRESH-INTERVAL;VALUE=DURATION:PT1H
X-Robots-Tag:noindex
X-PUBLISHED-TTL:PT1H
BEGIN:VTIMEZONE
TZID:Europe/London
BEGIN:DAYLIGHT
TZOFFSETFROM:+0000
TZOFFSETTO:+0100
TZNAME:BST
DTSTART:20270328T010000
END:DAYLIGHT
BEGIN:STANDARD
TZOFFSETFROM:+0100
TZOFFSETTO:+0000
TZNAME:GMT
DTSTART:20271031T010000
END:STANDARD
BEGIN:DAYLIGHT
TZOFFSETFROM:+0000
TZOFFSETTO:+0100
TZNAME:BST
DTSTART:20280326T010000
END:DAYLIGHT
BEGIN:STANDARD
TZOFFSETFROM:+0100
TZOFFSETTO:+0000
TZNAME:GMT
DTSTART:20281029T010000
END:STANDARD
BEGIN:DAYLIGHT
TZOFFSETFROM:+0000
TZOFFSETTO:+0100
TZNAME:BST
DTSTART:20290325T010000
END:DAYLIGHT
BEGIN:STANDARD
TZOFFSETFROM:+0100
TZOFFSETTO:+0000
TZNAME:GMT
DTSTART:20291028T010000
END:STANDARD
END:VTIMEZONE
BEGIN:VEVENT
DTSTART;TZID=Europe/London:20280801T100000
DTEND;TZID=Europe/London:20280801T113000
DTSTAMP:20260423T202535
CREATED:20260105T083318Z
LAST-MODIFIED:20260105T083334Z
UID:10002974-1848736800-1848742200@wringtonvillage.com
SUMMARY:What's on at the Mother Hen Cafe & Gifts
DESCRIPTION:Community living room\nFree hot drink tea/coffee  at Mother Hen for the over 65s through the national Warm room initiative xx\nPop along for a chat \, warm drink\, meet friends \, bring a book or play a game xxx
URL:https://wringtonvillage.com/event/whats-on-at-the-mother-hen-cafe-gifts-2-2/2028-08-01/
LOCATION:Mother Hen Coffee & Gifts\, Broad Street\, Wrington\, Bristol\, BS40 5LE\, United Kingdom
CATEGORIES:exclude
ATTACH;FMTTYPE=image/jpeg:https://wringtonvillage.com/wp-content/uploads/2025/01/Mother-hen-events.jpg
END:VEVENT
BEGIN:VEVENT
DTSTART;TZID=Europe/London:20280804T133000
DTEND;TZID=Europe/London:20280804T143000
DTSTAMP:20260423T202535
CREATED:20241118T082021Z
LAST-MODIFIED:20250310T025432Z
UID:10000297-1849008600-1849012200@wringtonvillage.com
SUMMARY:Singing for fun
DESCRIPTION:Please click here for our website \n 
URL:https://wringtonvillage.com/event/singing-for-fun/2028-08-04/
CATEGORIES:exclude
ATTACH;FMTTYPE=image/jpeg:https://wringtonvillage.com/wp-content/uploads/2024/11/Sing-for-Fun-poster-January-2024-1.jpeg
END:VEVENT
BEGIN:VEVENT
DTSTART;TZID=Europe/London:20280808T100000
DTEND;TZID=Europe/London:20280808T113000
DTSTAMP:20260423T202535
CREATED:20260105T083318Z
LAST-MODIFIED:20260105T083334Z
UID:10002975-1849341600-1849347000@wringtonvillage.com
SUMMARY:What's on at the Mother Hen Cafe & Gifts
DESCRIPTION:Community living room\nFree hot drink tea/coffee  at Mother Hen for the over 65s through the national Warm room initiative xx\nPop along for a chat \, warm drink\, meet friends \, bring a book or play a game xxx
URL:https://wringtonvillage.com/event/whats-on-at-the-mother-hen-cafe-gifts-2-2/2028-08-08/
LOCATION:Mother Hen Coffee & Gifts\, Broad Street\, Wrington\, Bristol\, BS40 5LE\, United Kingdom
CATEGORIES:exclude
ATTACH;FMTTYPE=image/jpeg:https://wringtonvillage.com/wp-content/uploads/2025/01/Mother-hen-events.jpg
END:VEVENT
BEGIN:VEVENT
DTSTART;TZID=Europe/London:20280811T133000
DTEND;TZID=Europe/London:20280811T143000
DTSTAMP:20260423T202535
CREATED:20241118T082021Z
LAST-MODIFIED:20250310T025432Z
UID:10000298-1849613400-1849617000@wringtonvillage.com
SUMMARY:Singing for fun
DESCRIPTION:Please click here for our website \n 
URL:https://wringtonvillage.com/event/singing-for-fun/2028-08-11/
CATEGORIES:exclude
ATTACH;FMTTYPE=image/jpeg:https://wringtonvillage.com/wp-content/uploads/2024/11/Sing-for-Fun-poster-January-2024-1.jpeg
END:VEVENT
BEGIN:VEVENT
DTSTART;TZID=Europe/London:20280815T100000
DTEND;TZID=Europe/London:20280815T113000
DTSTAMP:20260423T202535
CREATED:20260105T083318Z
LAST-MODIFIED:20260105T083334Z
UID:10002976-1849946400-1849951800@wringtonvillage.com
SUMMARY:What's on at the Mother Hen Cafe & Gifts
DESCRIPTION:Community living room\nFree hot drink tea/coffee  at Mother Hen for the over 65s through the national Warm room initiative xx\nPop along for a chat \, warm drink\, meet friends \, bring a book or play a game xxx
URL:https://wringtonvillage.com/event/whats-on-at-the-mother-hen-cafe-gifts-2-2/2028-08-15/
LOCATION:Mother Hen Coffee & Gifts\, Broad Street\, Wrington\, Bristol\, BS40 5LE\, United Kingdom
CATEGORIES:exclude
ATTACH;FMTTYPE=image/jpeg:https://wringtonvillage.com/wp-content/uploads/2025/01/Mother-hen-events.jpg
END:VEVENT
BEGIN:VEVENT
DTSTART;TZID=Europe/London:20280818T133000
DTEND;TZID=Europe/London:20280818T143000
DTSTAMP:20260423T202535
CREATED:20241118T082021Z
LAST-MODIFIED:20250310T025432Z
UID:10000299-1850218200-1850221800@wringtonvillage.com
SUMMARY:Singing for fun
DESCRIPTION:Please click here for our website \n 
URL:https://wringtonvillage.com/event/singing-for-fun/2028-08-18/
CATEGORIES:exclude
ATTACH;FMTTYPE=image/jpeg:https://wringtonvillage.com/wp-content/uploads/2024/11/Sing-for-Fun-poster-January-2024-1.jpeg
END:VEVENT
BEGIN:VEVENT
DTSTART;TZID=Europe/London:20280822T100000
DTEND;TZID=Europe/London:20280822T113000
DTSTAMP:20260423T202535
CREATED:20260105T083318Z
LAST-MODIFIED:20260105T083334Z
UID:10002977-1850551200-1850556600@wringtonvillage.com
SUMMARY:What's on at the Mother Hen Cafe & Gifts
DESCRIPTION:Community living room\nFree hot drink tea/coffee  at Mother Hen for the over 65s through the national Warm room initiative xx\nPop along for a chat \, warm drink\, meet friends \, bring a book or play a game xxx
URL:https://wringtonvillage.com/event/whats-on-at-the-mother-hen-cafe-gifts-2-2/2028-08-22/
LOCATION:Mother Hen Coffee & Gifts\, Broad Street\, Wrington\, Bristol\, BS40 5LE\, United Kingdom
CATEGORIES:exclude
ATTACH;FMTTYPE=image/jpeg:https://wringtonvillage.com/wp-content/uploads/2025/01/Mother-hen-events.jpg
END:VEVENT
BEGIN:VEVENT
DTSTART;TZID=Europe/London:20280825T133000
DTEND;TZID=Europe/London:20280825T143000
DTSTAMP:20260423T202535
CREATED:20241118T082021Z
LAST-MODIFIED:20250310T025432Z
UID:10000300-1850823000-1850826600@wringtonvillage.com
SUMMARY:Singing for fun
DESCRIPTION:Please click here for our website \n 
URL:https://wringtonvillage.com/event/singing-for-fun/2028-08-25/
CATEGORIES:exclude
ATTACH;FMTTYPE=image/jpeg:https://wringtonvillage.com/wp-content/uploads/2024/11/Sing-for-Fun-poster-January-2024-1.jpeg
END:VEVENT
BEGIN:VEVENT
DTSTART;TZID=Europe/London:20280829T100000
DTEND;TZID=Europe/London:20280829T113000
DTSTAMP:20260423T202535
CREATED:20260105T083318Z
LAST-MODIFIED:20260105T083334Z
UID:10002978-1851156000-1851161400@wringtonvillage.com
SUMMARY:What's on at the Mother Hen Cafe & Gifts
DESCRIPTION:Community living room\nFree hot drink tea/coffee  at Mother Hen for the over 65s through the national Warm room initiative xx\nPop along for a chat \, warm drink\, meet friends \, bring a book or play a game xxx
URL:https://wringtonvillage.com/event/whats-on-at-the-mother-hen-cafe-gifts-2-2/2028-08-29/
LOCATION:Mother Hen Coffee & Gifts\, Broad Street\, Wrington\, Bristol\, BS40 5LE\, United Kingdom
CATEGORIES:exclude
ATTACH;FMTTYPE=image/jpeg:https://wringtonvillage.com/wp-content/uploads/2025/01/Mother-hen-events.jpg
END:VEVENT
END:VCALENDAR