BEGIN:VCALENDAR
VERSION:2.0
PRODID:-//Wrington Village - ECPv6.15.20//NONSGML v1.0//EN
CALSCALE:GREGORIAN
METHOD:PUBLISH
X-ORIGINAL-URL:https://wringtonvillage.com
X-WR-CALDESC:Events for Wrington Village
REFRESH-INTERVAL;VALUE=DURATION:PT1H
X-Robots-Tag:noindex
X-PUBLISHED-TTL:PT1H
BEGIN:VTIMEZONE
TZID:Europe/London
BEGIN:DAYLIGHT
TZOFFSETFROM:+0000
TZOFFSETTO:+0100
TZNAME:BST
DTSTART:20280326T010000
END:DAYLIGHT
BEGIN:STANDARD
TZOFFSETFROM:+0100
TZOFFSETTO:+0000
TZNAME:GMT
DTSTART:20281029T010000
END:STANDARD
BEGIN:DAYLIGHT
TZOFFSETFROM:+0000
TZOFFSETTO:+0100
TZNAME:BST
DTSTART:20290325T010000
END:DAYLIGHT
BEGIN:STANDARD
TZOFFSETFROM:+0100
TZOFFSETTO:+0000
TZNAME:GMT
DTSTART:20291028T010000
END:STANDARD
BEGIN:DAYLIGHT
TZOFFSETFROM:+0000
TZOFFSETTO:+0100
TZNAME:BST
DTSTART:20300331T010000
END:DAYLIGHT
BEGIN:STANDARD
TZOFFSETFROM:+0100
TZOFFSETTO:+0000
TZNAME:GMT
DTSTART:20301027T010000
END:STANDARD
BEGIN:DAYLIGHT
TZOFFSETFROM:+0000
TZOFFSETTO:+0100
TZNAME:BST
DTSTART:20310330T010000
END:DAYLIGHT
BEGIN:STANDARD
TZOFFSETFROM:+0100
TZOFFSETTO:+0000
TZNAME:GMT
DTSTART:20311026T010000
END:STANDARD
END:VTIMEZONE
BEGIN:VEVENT
DTSTART;TZID=Europe/London:20291113T100000
DTEND;TZID=Europe/London:20291113T113000
DTSTAMP:20260425T160957
CREATED:20260105T083318Z
LAST-MODIFIED:20260105T083334Z
UID:10003041-1889258400-1889263800@wringtonvillage.com
SUMMARY:What's on at the Mother Hen Cafe & Gifts
DESCRIPTION:Community living room\nFree hot drink tea/coffee  at Mother Hen for the over 65s through the national Warm room initiative xx\nPop along for a chat \, warm drink\, meet friends \, bring a book or play a game xxx
URL:https://wringtonvillage.com/event/whats-on-at-the-mother-hen-cafe-gifts-2-2/2029-11-13/
LOCATION:Mother Hen Coffee & Gifts\, Broad Street\, Wrington\, Bristol\, BS40 5LE\, United Kingdom
CATEGORIES:exclude
ATTACH;FMTTYPE=image/jpeg:https://wringtonvillage.com/wp-content/uploads/2025/01/Mother-hen-events.jpg
END:VEVENT
BEGIN:VEVENT
DTSTART;TZID=Europe/London:20291116T133000
DTEND;TZID=Europe/London:20291116T143000
DTSTAMP:20260425T160957
CREATED:20241118T082021Z
LAST-MODIFIED:20250310T025432Z
UID:10000364-1889530200-1889533800@wringtonvillage.com
SUMMARY:Singing for fun
DESCRIPTION:Please click here for our website \n 
URL:https://wringtonvillage.com/event/singing-for-fun/2029-11-16/
CATEGORIES:exclude
ATTACH;FMTTYPE=image/jpeg:https://wringtonvillage.com/wp-content/uploads/2024/11/Sing-for-Fun-poster-January-2024-1.jpeg
END:VEVENT
BEGIN:VEVENT
DTSTART;TZID=Europe/London:20291120T100000
DTEND;TZID=Europe/London:20291120T113000
DTSTAMP:20260425T160957
CREATED:20260105T083318Z
LAST-MODIFIED:20260105T083334Z
UID:10003042-1889863200-1889868600@wringtonvillage.com
SUMMARY:What's on at the Mother Hen Cafe & Gifts
DESCRIPTION:Community living room\nFree hot drink tea/coffee  at Mother Hen for the over 65s through the national Warm room initiative xx\nPop along for a chat \, warm drink\, meet friends \, bring a book or play a game xxx
URL:https://wringtonvillage.com/event/whats-on-at-the-mother-hen-cafe-gifts-2-2/2029-11-20/
LOCATION:Mother Hen Coffee & Gifts\, Broad Street\, Wrington\, Bristol\, BS40 5LE\, United Kingdom
CATEGORIES:exclude
ATTACH;FMTTYPE=image/jpeg:https://wringtonvillage.com/wp-content/uploads/2025/01/Mother-hen-events.jpg
END:VEVENT
BEGIN:VEVENT
DTSTART;TZID=Europe/London:20291123T133000
DTEND;TZID=Europe/London:20291123T143000
DTSTAMP:20260425T160957
CREATED:20241118T082021Z
LAST-MODIFIED:20250310T025432Z
UID:10002234-1890135000-1890138600@wringtonvillage.com
SUMMARY:Singing for fun
DESCRIPTION:Please click here for our website \n 
URL:https://wringtonvillage.com/event/singing-for-fun/2029-11-23/
CATEGORIES:exclude
ATTACH;FMTTYPE=image/jpeg:https://wringtonvillage.com/wp-content/uploads/2024/11/Sing-for-Fun-poster-January-2024-1.jpeg
END:VEVENT
BEGIN:VEVENT
DTSTART;TZID=Europe/London:20291127T100000
DTEND;TZID=Europe/London:20291127T113000
DTSTAMP:20260425T160957
CREATED:20260105T083318Z
LAST-MODIFIED:20260105T083334Z
UID:10003043-1890468000-1890473400@wringtonvillage.com
SUMMARY:What's on at the Mother Hen Cafe & Gifts
DESCRIPTION:Community living room\nFree hot drink tea/coffee  at Mother Hen for the over 65s through the national Warm room initiative xx\nPop along for a chat \, warm drink\, meet friends \, bring a book or play a game xxx
URL:https://wringtonvillage.com/event/whats-on-at-the-mother-hen-cafe-gifts-2-2/2029-11-27/
LOCATION:Mother Hen Coffee & Gifts\, Broad Street\, Wrington\, Bristol\, BS40 5LE\, United Kingdom
CATEGORIES:exclude
ATTACH;FMTTYPE=image/jpeg:https://wringtonvillage.com/wp-content/uploads/2025/01/Mother-hen-events.jpg
END:VEVENT
BEGIN:VEVENT
DTSTART;TZID=Europe/London:20291130T133000
DTEND;TZID=Europe/London:20291130T143000
DTSTAMP:20260425T160957
CREATED:20241118T082021Z
LAST-MODIFIED:20250310T025432Z
UID:10002235-1890739800-1890743400@wringtonvillage.com
SUMMARY:Singing for fun
DESCRIPTION:Please click here for our website \n 
URL:https://wringtonvillage.com/event/singing-for-fun/2029-11-30/
CATEGORIES:exclude
ATTACH;FMTTYPE=image/jpeg:https://wringtonvillage.com/wp-content/uploads/2024/11/Sing-for-Fun-poster-January-2024-1.jpeg
END:VEVENT
BEGIN:VEVENT
DTSTART;TZID=Europe/London:20291204T100000
DTEND;TZID=Europe/London:20291204T113000
DTSTAMP:20260425T160957
CREATED:20260105T083318Z
LAST-MODIFIED:20260105T083334Z
UID:10003044-1891072800-1891078200@wringtonvillage.com
SUMMARY:What's on at the Mother Hen Cafe & Gifts
DESCRIPTION:Community living room\nFree hot drink tea/coffee  at Mother Hen for the over 65s through the national Warm room initiative xx\nPop along for a chat \, warm drink\, meet friends \, bring a book or play a game xxx
URL:https://wringtonvillage.com/event/whats-on-at-the-mother-hen-cafe-gifts-2-2/2029-12-04/
LOCATION:Mother Hen Coffee & Gifts\, Broad Street\, Wrington\, Bristol\, BS40 5LE\, United Kingdom
CATEGORIES:exclude
ATTACH;FMTTYPE=image/jpeg:https://wringtonvillage.com/wp-content/uploads/2025/01/Mother-hen-events.jpg
END:VEVENT
BEGIN:VEVENT
DTSTART;TZID=Europe/London:20291207T133000
DTEND;TZID=Europe/London:20291207T143000
DTSTAMP:20260425T160957
CREATED:20241118T082021Z
LAST-MODIFIED:20250310T025432Z
UID:10002236-1891344600-1891348200@wringtonvillage.com
SUMMARY:Singing for fun
DESCRIPTION:Please click here for our website \n 
URL:https://wringtonvillage.com/event/singing-for-fun/2029-12-07/
CATEGORIES:exclude
ATTACH;FMTTYPE=image/jpeg:https://wringtonvillage.com/wp-content/uploads/2024/11/Sing-for-Fun-poster-January-2024-1.jpeg
END:VEVENT
BEGIN:VEVENT
DTSTART;TZID=Europe/London:20291211T100000
DTEND;TZID=Europe/London:20291211T113000
DTSTAMP:20260425T160958
CREATED:20260105T083318Z
LAST-MODIFIED:20260105T083334Z
UID:10003045-1891677600-1891683000@wringtonvillage.com
SUMMARY:What's on at the Mother Hen Cafe & Gifts
DESCRIPTION:Community living room\nFree hot drink tea/coffee  at Mother Hen for the over 65s through the national Warm room initiative xx\nPop along for a chat \, warm drink\, meet friends \, bring a book or play a game xxx
URL:https://wringtonvillage.com/event/whats-on-at-the-mother-hen-cafe-gifts-2-2/2029-12-11/
LOCATION:Mother Hen Coffee & Gifts\, Broad Street\, Wrington\, Bristol\, BS40 5LE\, United Kingdom
CATEGORIES:exclude
ATTACH;FMTTYPE=image/jpeg:https://wringtonvillage.com/wp-content/uploads/2025/01/Mother-hen-events.jpg
END:VEVENT
BEGIN:VEVENT
DTSTART;TZID=Europe/London:20291214T133000
DTEND;TZID=Europe/London:20291214T143000
DTSTAMP:20260425T160958
CREATED:20241118T082021Z
LAST-MODIFIED:20250310T025432Z
UID:10002237-1891949400-1891953000@wringtonvillage.com
SUMMARY:Singing for fun
DESCRIPTION:Please click here for our website \n 
URL:https://wringtonvillage.com/event/singing-for-fun/2029-12-14/
CATEGORIES:exclude
ATTACH;FMTTYPE=image/jpeg:https://wringtonvillage.com/wp-content/uploads/2024/11/Sing-for-Fun-poster-January-2024-1.jpeg
END:VEVENT
BEGIN:VEVENT
DTSTART;TZID=Europe/London:20291218T100000
DTEND;TZID=Europe/London:20291218T113000
DTSTAMP:20260425T160958
CREATED:20260105T083318Z
LAST-MODIFIED:20260105T083334Z
UID:10003046-1892282400-1892287800@wringtonvillage.com
SUMMARY:What's on at the Mother Hen Cafe & Gifts
DESCRIPTION:Community living room\nFree hot drink tea/coffee  at Mother Hen for the over 65s through the national Warm room initiative xx\nPop along for a chat \, warm drink\, meet friends \, bring a book or play a game xxx
URL:https://wringtonvillage.com/event/whats-on-at-the-mother-hen-cafe-gifts-2-2/2029-12-18/
LOCATION:Mother Hen Coffee & Gifts\, Broad Street\, Wrington\, Bristol\, BS40 5LE\, United Kingdom
CATEGORIES:exclude
ATTACH;FMTTYPE=image/jpeg:https://wringtonvillage.com/wp-content/uploads/2025/01/Mother-hen-events.jpg
END:VEVENT
BEGIN:VEVENT
DTSTART;TZID=Europe/London:20291221T133000
DTEND;TZID=Europe/London:20291221T143000
DTSTAMP:20260425T160958
CREATED:20241118T082021Z
LAST-MODIFIED:20250310T025432Z
UID:10002238-1892554200-1892557800@wringtonvillage.com
SUMMARY:Singing for fun
DESCRIPTION:Please click here for our website \n 
URL:https://wringtonvillage.com/event/singing-for-fun/2029-12-21/
CATEGORIES:exclude
ATTACH;FMTTYPE=image/jpeg:https://wringtonvillage.com/wp-content/uploads/2024/11/Sing-for-Fun-poster-January-2024-1.jpeg
END:VEVENT
BEGIN:VEVENT
DTSTART;TZID=Europe/London:20291225T100000
DTEND;TZID=Europe/London:20291225T113000
DTSTAMP:20260425T160958
CREATED:20260105T083318Z
LAST-MODIFIED:20260105T083334Z
UID:10003047-1892887200-1892892600@wringtonvillage.com
SUMMARY:What's on at the Mother Hen Cafe & Gifts
DESCRIPTION:Community living room\nFree hot drink tea/coffee  at Mother Hen for the over 65s through the national Warm room initiative xx\nPop along for a chat \, warm drink\, meet friends \, bring a book or play a game xxx
URL:https://wringtonvillage.com/event/whats-on-at-the-mother-hen-cafe-gifts-2-2/2029-12-25/
LOCATION:Mother Hen Coffee & Gifts\, Broad Street\, Wrington\, Bristol\, BS40 5LE\, United Kingdom
CATEGORIES:exclude
ATTACH;FMTTYPE=image/jpeg:https://wringtonvillage.com/wp-content/uploads/2025/01/Mother-hen-events.jpg
END:VEVENT
BEGIN:VEVENT
DTSTART;TZID=Europe/London:20291228T133000
DTEND;TZID=Europe/London:20291228T143000
DTSTAMP:20260425T160958
CREATED:20241118T082021Z
LAST-MODIFIED:20250310T025432Z
UID:10002239-1893159000-1893162600@wringtonvillage.com
SUMMARY:Singing for fun
DESCRIPTION:Please click here for our website \n 
URL:https://wringtonvillage.com/event/singing-for-fun/2029-12-28/
CATEGORIES:exclude
ATTACH;FMTTYPE=image/jpeg:https://wringtonvillage.com/wp-content/uploads/2024/11/Sing-for-Fun-poster-January-2024-1.jpeg
END:VEVENT
BEGIN:VEVENT
DTSTART;TZID=Europe/London:20300101T100000
DTEND;TZID=Europe/London:20300101T113000
DTSTAMP:20260425T160958
CREATED:20260105T083318Z
LAST-MODIFIED:20260105T083334Z
UID:10003048-1893492000-1893497400@wringtonvillage.com
SUMMARY:What's on at the Mother Hen Cafe & Gifts
DESCRIPTION:Community living room\nFree hot drink tea/coffee  at Mother Hen for the over 65s through the national Warm room initiative xx\nPop along for a chat \, warm drink\, meet friends \, bring a book or play a game xxx
URL:https://wringtonvillage.com/event/whats-on-at-the-mother-hen-cafe-gifts-2-2/2030-01-01/
LOCATION:Mother Hen Coffee & Gifts\, Broad Street\, Wrington\, Bristol\, BS40 5LE\, United Kingdom
CATEGORIES:exclude
ATTACH;FMTTYPE=image/jpeg:https://wringtonvillage.com/wp-content/uploads/2025/01/Mother-hen-events.jpg
END:VEVENT
BEGIN:VEVENT
DTSTART;TZID=Europe/London:20300104T133000
DTEND;TZID=Europe/London:20300104T143000
DTSTAMP:20260425T160958
CREATED:20241118T082021Z
LAST-MODIFIED:20250310T025432Z
UID:10002240-1893763800-1893767400@wringtonvillage.com
SUMMARY:Singing for fun
DESCRIPTION:Please click here for our website \n 
URL:https://wringtonvillage.com/event/singing-for-fun/2030-01-04/
CATEGORIES:exclude
ATTACH;FMTTYPE=image/jpeg:https://wringtonvillage.com/wp-content/uploads/2024/11/Sing-for-Fun-poster-January-2024-1.jpeg
END:VEVENT
BEGIN:VEVENT
DTSTART;TZID=Europe/London:20300108T100000
DTEND;TZID=Europe/London:20300108T113000
DTSTAMP:20260425T160958
CREATED:20260105T083318Z
LAST-MODIFIED:20260105T083334Z
UID:10003049-1894096800-1894102200@wringtonvillage.com
SUMMARY:What's on at the Mother Hen Cafe & Gifts
DESCRIPTION:Community living room\nFree hot drink tea/coffee  at Mother Hen for the over 65s through the national Warm room initiative xx\nPop along for a chat \, warm drink\, meet friends \, bring a book or play a game xxx
URL:https://wringtonvillage.com/event/whats-on-at-the-mother-hen-cafe-gifts-2-2/2030-01-08/
LOCATION:Mother Hen Coffee & Gifts\, Broad Street\, Wrington\, Bristol\, BS40 5LE\, United Kingdom
CATEGORIES:exclude
ATTACH;FMTTYPE=image/jpeg:https://wringtonvillage.com/wp-content/uploads/2025/01/Mother-hen-events.jpg
END:VEVENT
BEGIN:VEVENT
DTSTART;TZID=Europe/London:20300111T133000
DTEND;TZID=Europe/London:20300111T143000
DTSTAMP:20260425T160958
CREATED:20241118T082021Z
LAST-MODIFIED:20250310T025432Z
UID:10002241-1894368600-1894372200@wringtonvillage.com
SUMMARY:Singing for fun
DESCRIPTION:Please click here for our website \n 
URL:https://wringtonvillage.com/event/singing-for-fun/2030-01-11/
CATEGORIES:exclude
ATTACH;FMTTYPE=image/jpeg:https://wringtonvillage.com/wp-content/uploads/2024/11/Sing-for-Fun-poster-January-2024-1.jpeg
END:VEVENT
BEGIN:VEVENT
DTSTART;TZID=Europe/London:20300115T100000
DTEND;TZID=Europe/London:20300115T113000
DTSTAMP:20260425T160958
CREATED:20260105T083318Z
LAST-MODIFIED:20260105T083334Z
UID:10003050-1894701600-1894707000@wringtonvillage.com
SUMMARY:What's on at the Mother Hen Cafe & Gifts
DESCRIPTION:Community living room\nFree hot drink tea/coffee  at Mother Hen for the over 65s through the national Warm room initiative xx\nPop along for a chat \, warm drink\, meet friends \, bring a book or play a game xxx
URL:https://wringtonvillage.com/event/whats-on-at-the-mother-hen-cafe-gifts-2-2/2030-01-15/
LOCATION:Mother Hen Coffee & Gifts\, Broad Street\, Wrington\, Bristol\, BS40 5LE\, United Kingdom
CATEGORIES:exclude
ATTACH;FMTTYPE=image/jpeg:https://wringtonvillage.com/wp-content/uploads/2025/01/Mother-hen-events.jpg
END:VEVENT
BEGIN:VEVENT
DTSTART;TZID=Europe/London:20300118T133000
DTEND;TZID=Europe/London:20300118T143000
DTSTAMP:20260425T160958
CREATED:20241118T082021Z
LAST-MODIFIED:20250310T025432Z
UID:10002242-1894973400-1894977000@wringtonvillage.com
SUMMARY:Singing for fun
DESCRIPTION:Please click here for our website \n 
URL:https://wringtonvillage.com/event/singing-for-fun/2030-01-18/
CATEGORIES:exclude
ATTACH;FMTTYPE=image/jpeg:https://wringtonvillage.com/wp-content/uploads/2024/11/Sing-for-Fun-poster-January-2024-1.jpeg
END:VEVENT
BEGIN:VEVENT
DTSTART;TZID=Europe/London:20300122T100000
DTEND;TZID=Europe/London:20300122T113000
DTSTAMP:20260425T160958
CREATED:20260105T083318Z
LAST-MODIFIED:20260105T083334Z
UID:10003051-1895306400-1895311800@wringtonvillage.com
SUMMARY:What's on at the Mother Hen Cafe & Gifts
DESCRIPTION:Community living room\nFree hot drink tea/coffee  at Mother Hen for the over 65s through the national Warm room initiative xx\nPop along for a chat \, warm drink\, meet friends \, bring a book or play a game xxx
URL:https://wringtonvillage.com/event/whats-on-at-the-mother-hen-cafe-gifts-2-2/2030-01-22/
LOCATION:Mother Hen Coffee & Gifts\, Broad Street\, Wrington\, Bristol\, BS40 5LE\, United Kingdom
CATEGORIES:exclude
ATTACH;FMTTYPE=image/jpeg:https://wringtonvillage.com/wp-content/uploads/2025/01/Mother-hen-events.jpg
END:VEVENT
BEGIN:VEVENT
DTSTART;TZID=Europe/London:20300125T133000
DTEND;TZID=Europe/London:20300125T143000
DTSTAMP:20260425T160958
CREATED:20241118T082021Z
LAST-MODIFIED:20250310T025432Z
UID:10002243-1895578200-1895581800@wringtonvillage.com
SUMMARY:Singing for fun
DESCRIPTION:Please click here for our website \n 
URL:https://wringtonvillage.com/event/singing-for-fun/2030-01-25/
CATEGORIES:exclude
ATTACH;FMTTYPE=image/jpeg:https://wringtonvillage.com/wp-content/uploads/2024/11/Sing-for-Fun-poster-January-2024-1.jpeg
END:VEVENT
BEGIN:VEVENT
DTSTART;TZID=Europe/London:20300129T100000
DTEND;TZID=Europe/London:20300129T113000
DTSTAMP:20260425T160958
CREATED:20260105T083318Z
LAST-MODIFIED:20260105T083334Z
UID:10003052-1895911200-1895916600@wringtonvillage.com
SUMMARY:What's on at the Mother Hen Cafe & Gifts
DESCRIPTION:Community living room\nFree hot drink tea/coffee  at Mother Hen for the over 65s through the national Warm room initiative xx\nPop along for a chat \, warm drink\, meet friends \, bring a book or play a game xxx
URL:https://wringtonvillage.com/event/whats-on-at-the-mother-hen-cafe-gifts-2-2/2030-01-29/
LOCATION:Mother Hen Coffee & Gifts\, Broad Street\, Wrington\, Bristol\, BS40 5LE\, United Kingdom
CATEGORIES:exclude
ATTACH;FMTTYPE=image/jpeg:https://wringtonvillage.com/wp-content/uploads/2025/01/Mother-hen-events.jpg
END:VEVENT
BEGIN:VEVENT
DTSTART;TZID=Europe/London:20300201T133000
DTEND;TZID=Europe/London:20300201T143000
DTSTAMP:20260425T160958
CREATED:20241118T082021Z
LAST-MODIFIED:20250310T025432Z
UID:10002244-1896183000-1896186600@wringtonvillage.com
SUMMARY:Singing for fun
DESCRIPTION:Please click here for our website \n 
URL:https://wringtonvillage.com/event/singing-for-fun/2030-02-01/
CATEGORIES:exclude
ATTACH;FMTTYPE=image/jpeg:https://wringtonvillage.com/wp-content/uploads/2024/11/Sing-for-Fun-poster-January-2024-1.jpeg
END:VEVENT
BEGIN:VEVENT
DTSTART;TZID=Europe/London:20300205T100000
DTEND;TZID=Europe/London:20300205T113000
DTSTAMP:20260425T160958
CREATED:20260105T083318Z
LAST-MODIFIED:20260105T083334Z
UID:10003053-1896516000-1896521400@wringtonvillage.com
SUMMARY:What's on at the Mother Hen Cafe & Gifts
DESCRIPTION:Community living room\nFree hot drink tea/coffee  at Mother Hen for the over 65s through the national Warm room initiative xx\nPop along for a chat \, warm drink\, meet friends \, bring a book or play a game xxx
URL:https://wringtonvillage.com/event/whats-on-at-the-mother-hen-cafe-gifts-2-2/2030-02-05/
LOCATION:Mother Hen Coffee & Gifts\, Broad Street\, Wrington\, Bristol\, BS40 5LE\, United Kingdom
CATEGORIES:exclude
ATTACH;FMTTYPE=image/jpeg:https://wringtonvillage.com/wp-content/uploads/2025/01/Mother-hen-events.jpg
END:VEVENT
BEGIN:VEVENT
DTSTART;TZID=Europe/London:20300208T133000
DTEND;TZID=Europe/London:20300208T143000
DTSTAMP:20260425T160958
CREATED:20241118T082021Z
LAST-MODIFIED:20250310T025432Z
UID:10002245-1896787800-1896791400@wringtonvillage.com
SUMMARY:Singing for fun
DESCRIPTION:Please click here for our website \n 
URL:https://wringtonvillage.com/event/singing-for-fun/2030-02-08/
CATEGORIES:exclude
ATTACH;FMTTYPE=image/jpeg:https://wringtonvillage.com/wp-content/uploads/2024/11/Sing-for-Fun-poster-January-2024-1.jpeg
END:VEVENT
BEGIN:VEVENT
DTSTART;TZID=Europe/London:20300212T100000
DTEND;TZID=Europe/London:20300212T113000
DTSTAMP:20260425T160958
CREATED:20260105T083318Z
LAST-MODIFIED:20260105T083334Z
UID:10003054-1897120800-1897126200@wringtonvillage.com
SUMMARY:What's on at the Mother Hen Cafe & Gifts
DESCRIPTION:Community living room\nFree hot drink tea/coffee  at Mother Hen for the over 65s through the national Warm room initiative xx\nPop along for a chat \, warm drink\, meet friends \, bring a book or play a game xxx
URL:https://wringtonvillage.com/event/whats-on-at-the-mother-hen-cafe-gifts-2-2/2030-02-12/
LOCATION:Mother Hen Coffee & Gifts\, Broad Street\, Wrington\, Bristol\, BS40 5LE\, United Kingdom
CATEGORIES:exclude
ATTACH;FMTTYPE=image/jpeg:https://wringtonvillage.com/wp-content/uploads/2025/01/Mother-hen-events.jpg
END:VEVENT
BEGIN:VEVENT
DTSTART;TZID=Europe/London:20300215T133000
DTEND;TZID=Europe/London:20300215T143000
DTSTAMP:20260425T160958
CREATED:20241118T082021Z
LAST-MODIFIED:20250310T025432Z
UID:10002246-1897392600-1897396200@wringtonvillage.com
SUMMARY:Singing for fun
DESCRIPTION:Please click here for our website \n 
URL:https://wringtonvillage.com/event/singing-for-fun/2030-02-15/
CATEGORIES:exclude
ATTACH;FMTTYPE=image/jpeg:https://wringtonvillage.com/wp-content/uploads/2024/11/Sing-for-Fun-poster-January-2024-1.jpeg
END:VEVENT
BEGIN:VEVENT
DTSTART;TZID=Europe/London:20300219T100000
DTEND;TZID=Europe/London:20300219T113000
DTSTAMP:20260425T160958
CREATED:20260105T083318Z
LAST-MODIFIED:20260105T083334Z
UID:10003055-1897725600-1897731000@wringtonvillage.com
SUMMARY:What's on at the Mother Hen Cafe & Gifts
DESCRIPTION:Community living room\nFree hot drink tea/coffee  at Mother Hen for the over 65s through the national Warm room initiative xx\nPop along for a chat \, warm drink\, meet friends \, bring a book or play a game xxx
URL:https://wringtonvillage.com/event/whats-on-at-the-mother-hen-cafe-gifts-2-2/2030-02-19/
LOCATION:Mother Hen Coffee & Gifts\, Broad Street\, Wrington\, Bristol\, BS40 5LE\, United Kingdom
CATEGORIES:exclude
ATTACH;FMTTYPE=image/jpeg:https://wringtonvillage.com/wp-content/uploads/2025/01/Mother-hen-events.jpg
END:VEVENT
BEGIN:VEVENT
DTSTART;TZID=Europe/London:20300222T133000
DTEND;TZID=Europe/London:20300222T143000
DTSTAMP:20260425T160958
CREATED:20241118T082021Z
LAST-MODIFIED:20250310T025432Z
UID:10002247-1897997400-1898001000@wringtonvillage.com
SUMMARY:Singing for fun
DESCRIPTION:Please click here for our website \n 
URL:https://wringtonvillage.com/event/singing-for-fun/2030-02-22/
CATEGORIES:exclude
ATTACH;FMTTYPE=image/jpeg:https://wringtonvillage.com/wp-content/uploads/2024/11/Sing-for-Fun-poster-January-2024-1.jpeg
END:VEVENT
END:VCALENDAR