BEGIN:VCALENDAR
VERSION:2.0
PRODID:-//Wrington Village - ECPv6.15.20//NONSGML v1.0//EN
CALSCALE:GREGORIAN
METHOD:PUBLISH
X-WR-CALNAME:Wrington Village
X-ORIGINAL-URL:https://wringtonvillage.com
X-WR-CALDESC:Events for Wrington Village
REFRESH-INTERVAL;VALUE=DURATION:PT1H
X-Robots-Tag:noindex
X-PUBLISHED-TTL:PT1H
BEGIN:VTIMEZONE
TZID:Europe/London
BEGIN:DAYLIGHT
TZOFFSETFROM:+0000
TZOFFSETTO:+0100
TZNAME:BST
DTSTART:20290325T010000
END:DAYLIGHT
BEGIN:STANDARD
TZOFFSETFROM:+0100
TZOFFSETTO:+0000
TZNAME:GMT
DTSTART:20291028T010000
END:STANDARD
BEGIN:DAYLIGHT
TZOFFSETFROM:+0000
TZOFFSETTO:+0100
TZNAME:BST
DTSTART:20300331T010000
END:DAYLIGHT
BEGIN:STANDARD
TZOFFSETFROM:+0100
TZOFFSETTO:+0000
TZNAME:GMT
DTSTART:20301027T010000
END:STANDARD
BEGIN:DAYLIGHT
TZOFFSETFROM:+0000
TZOFFSETTO:+0100
TZNAME:BST
DTSTART:20310330T010000
END:DAYLIGHT
BEGIN:STANDARD
TZOFFSETFROM:+0100
TZOFFSETTO:+0000
TZNAME:GMT
DTSTART:20311026T010000
END:STANDARD
END:VTIMEZONE
BEGIN:VEVENT
DTSTART;TZID=Europe/London:20300402T100000
DTEND;TZID=Europe/London:20300402T113000
DTSTAMP:20260425T211040
CREATED:20260105T083318Z
LAST-MODIFIED:20260105T083334Z
UID:10003061-1901354400-1901359800@wringtonvillage.com
SUMMARY:What's on at the Mother Hen Cafe & Gifts
DESCRIPTION:Community living room\nFree hot drink tea/coffee  at Mother Hen for the over 65s through the national Warm room initiative xx\nPop along for a chat \, warm drink\, meet friends \, bring a book or play a game xxx
URL:https://wringtonvillage.com/event/whats-on-at-the-mother-hen-cafe-gifts-2-2/2030-04-02/
LOCATION:Mother Hen Coffee & Gifts\, Broad Street\, Wrington\, Bristol\, BS40 5LE\, United Kingdom
CATEGORIES:exclude
ATTACH;FMTTYPE=image/jpeg:https://wringtonvillage.com/wp-content/uploads/2025/01/Mother-hen-events.jpg
END:VEVENT
BEGIN:VEVENT
DTSTART;TZID=Europe/London:20300409T100000
DTEND;TZID=Europe/London:20300409T113000
DTSTAMP:20260425T211040
CREATED:20260105T083318Z
LAST-MODIFIED:20260105T083334Z
UID:10003062-1901959200-1901964600@wringtonvillage.com
SUMMARY:What's on at the Mother Hen Cafe & Gifts
DESCRIPTION:Community living room\nFree hot drink tea/coffee  at Mother Hen for the over 65s through the national Warm room initiative xx\nPop along for a chat \, warm drink\, meet friends \, bring a book or play a game xxx
URL:https://wringtonvillage.com/event/whats-on-at-the-mother-hen-cafe-gifts-2-2/2030-04-09/
LOCATION:Mother Hen Coffee & Gifts\, Broad Street\, Wrington\, Bristol\, BS40 5LE\, United Kingdom
CATEGORIES:exclude
ATTACH;FMTTYPE=image/jpeg:https://wringtonvillage.com/wp-content/uploads/2025/01/Mother-hen-events.jpg
END:VEVENT
BEGIN:VEVENT
DTSTART;TZID=Europe/London:20300416T100000
DTEND;TZID=Europe/London:20300416T113000
DTSTAMP:20260425T211040
CREATED:20260105T083318Z
LAST-MODIFIED:20260105T083334Z
UID:10003063-1902564000-1902569400@wringtonvillage.com
SUMMARY:What's on at the Mother Hen Cafe & Gifts
DESCRIPTION:Community living room\nFree hot drink tea/coffee  at Mother Hen for the over 65s through the national Warm room initiative xx\nPop along for a chat \, warm drink\, meet friends \, bring a book or play a game xxx
URL:https://wringtonvillage.com/event/whats-on-at-the-mother-hen-cafe-gifts-2-2/2030-04-16/
LOCATION:Mother Hen Coffee & Gifts\, Broad Street\, Wrington\, Bristol\, BS40 5LE\, United Kingdom
CATEGORIES:exclude
ATTACH;FMTTYPE=image/jpeg:https://wringtonvillage.com/wp-content/uploads/2025/01/Mother-hen-events.jpg
END:VEVENT
BEGIN:VEVENT
DTSTART;TZID=Europe/London:20300423T100000
DTEND;TZID=Europe/London:20300423T113000
DTSTAMP:20260425T211040
CREATED:20260105T083318Z
LAST-MODIFIED:20260105T083334Z
UID:10003064-1903168800-1903174200@wringtonvillage.com
SUMMARY:What's on at the Mother Hen Cafe & Gifts
DESCRIPTION:Community living room\nFree hot drink tea/coffee  at Mother Hen for the over 65s through the national Warm room initiative xx\nPop along for a chat \, warm drink\, meet friends \, bring a book or play a game xxx
URL:https://wringtonvillage.com/event/whats-on-at-the-mother-hen-cafe-gifts-2-2/2030-04-23/
LOCATION:Mother Hen Coffee & Gifts\, Broad Street\, Wrington\, Bristol\, BS40 5LE\, United Kingdom
CATEGORIES:exclude
ATTACH;FMTTYPE=image/jpeg:https://wringtonvillage.com/wp-content/uploads/2025/01/Mother-hen-events.jpg
END:VEVENT
BEGIN:VEVENT
DTSTART;TZID=Europe/London:20300430T100000
DTEND;TZID=Europe/London:20300430T113000
DTSTAMP:20260425T211040
CREATED:20260105T083318Z
LAST-MODIFIED:20260105T083334Z
UID:10003065-1903773600-1903779000@wringtonvillage.com
SUMMARY:What's on at the Mother Hen Cafe & Gifts
DESCRIPTION:Community living room\nFree hot drink tea/coffee  at Mother Hen for the over 65s through the national Warm room initiative xx\nPop along for a chat \, warm drink\, meet friends \, bring a book or play a game xxx
URL:https://wringtonvillage.com/event/whats-on-at-the-mother-hen-cafe-gifts-2-2/2030-04-30/
LOCATION:Mother Hen Coffee & Gifts\, Broad Street\, Wrington\, Bristol\, BS40 5LE\, United Kingdom
CATEGORIES:exclude
ATTACH;FMTTYPE=image/jpeg:https://wringtonvillage.com/wp-content/uploads/2025/01/Mother-hen-events.jpg
END:VEVENT
BEGIN:VEVENT
DTSTART;TZID=Europe/London:20300507T100000
DTEND;TZID=Europe/London:20300507T113000
DTSTAMP:20260425T211040
CREATED:20260105T083318Z
LAST-MODIFIED:20260105T083334Z
UID:10003066-1904378400-1904383800@wringtonvillage.com
SUMMARY:What's on at the Mother Hen Cafe & Gifts
DESCRIPTION:Community living room\nFree hot drink tea/coffee  at Mother Hen for the over 65s through the national Warm room initiative xx\nPop along for a chat \, warm drink\, meet friends \, bring a book or play a game xxx
URL:https://wringtonvillage.com/event/whats-on-at-the-mother-hen-cafe-gifts-2-2/2030-05-07/
LOCATION:Mother Hen Coffee & Gifts\, Broad Street\, Wrington\, Bristol\, BS40 5LE\, United Kingdom
CATEGORIES:exclude
ATTACH;FMTTYPE=image/jpeg:https://wringtonvillage.com/wp-content/uploads/2025/01/Mother-hen-events.jpg
END:VEVENT
BEGIN:VEVENT
DTSTART;TZID=Europe/London:20300514T100000
DTEND;TZID=Europe/London:20300514T113000
DTSTAMP:20260425T211040
CREATED:20260105T083318Z
LAST-MODIFIED:20260105T083334Z
UID:10003067-1904983200-1904988600@wringtonvillage.com
SUMMARY:What's on at the Mother Hen Cafe & Gifts
DESCRIPTION:Community living room\nFree hot drink tea/coffee  at Mother Hen for the over 65s through the national Warm room initiative xx\nPop along for a chat \, warm drink\, meet friends \, bring a book or play a game xxx
URL:https://wringtonvillage.com/event/whats-on-at-the-mother-hen-cafe-gifts-2-2/2030-05-14/
LOCATION:Mother Hen Coffee & Gifts\, Broad Street\, Wrington\, Bristol\, BS40 5LE\, United Kingdom
CATEGORIES:exclude
ATTACH;FMTTYPE=image/jpeg:https://wringtonvillage.com/wp-content/uploads/2025/01/Mother-hen-events.jpg
END:VEVENT
BEGIN:VEVENT
DTSTART;TZID=Europe/London:20300521T100000
DTEND;TZID=Europe/London:20300521T113000
DTSTAMP:20260425T211040
CREATED:20260105T083318Z
LAST-MODIFIED:20260105T083334Z
UID:10003068-1905588000-1905593400@wringtonvillage.com
SUMMARY:What's on at the Mother Hen Cafe & Gifts
DESCRIPTION:Community living room\nFree hot drink tea/coffee  at Mother Hen for the over 65s through the national Warm room initiative xx\nPop along for a chat \, warm drink\, meet friends \, bring a book or play a game xxx
URL:https://wringtonvillage.com/event/whats-on-at-the-mother-hen-cafe-gifts-2-2/2030-05-21/
LOCATION:Mother Hen Coffee & Gifts\, Broad Street\, Wrington\, Bristol\, BS40 5LE\, United Kingdom
CATEGORIES:exclude
ATTACH;FMTTYPE=image/jpeg:https://wringtonvillage.com/wp-content/uploads/2025/01/Mother-hen-events.jpg
END:VEVENT
BEGIN:VEVENT
DTSTART;TZID=Europe/London:20300528T100000
DTEND;TZID=Europe/London:20300528T113000
DTSTAMP:20260425T211040
CREATED:20260105T083318Z
LAST-MODIFIED:20260105T083334Z
UID:10003069-1906192800-1906198200@wringtonvillage.com
SUMMARY:What's on at the Mother Hen Cafe & Gifts
DESCRIPTION:Community living room\nFree hot drink tea/coffee  at Mother Hen for the over 65s through the national Warm room initiative xx\nPop along for a chat \, warm drink\, meet friends \, bring a book or play a game xxx
URL:https://wringtonvillage.com/event/whats-on-at-the-mother-hen-cafe-gifts-2-2/2030-05-28/
LOCATION:Mother Hen Coffee & Gifts\, Broad Street\, Wrington\, Bristol\, BS40 5LE\, United Kingdom
CATEGORIES:exclude
ATTACH;FMTTYPE=image/jpeg:https://wringtonvillage.com/wp-content/uploads/2025/01/Mother-hen-events.jpg
END:VEVENT
BEGIN:VEVENT
DTSTART;TZID=Europe/London:20300604T100000
DTEND;TZID=Europe/London:20300604T113000
DTSTAMP:20260425T211040
CREATED:20260105T083318Z
LAST-MODIFIED:20260105T083334Z
UID:10003070-1906797600-1906803000@wringtonvillage.com
SUMMARY:What's on at the Mother Hen Cafe & Gifts
DESCRIPTION:Community living room\nFree hot drink tea/coffee  at Mother Hen for the over 65s through the national Warm room initiative xx\nPop along for a chat \, warm drink\, meet friends \, bring a book or play a game xxx
URL:https://wringtonvillage.com/event/whats-on-at-the-mother-hen-cafe-gifts-2-2/2030-06-04/
LOCATION:Mother Hen Coffee & Gifts\, Broad Street\, Wrington\, Bristol\, BS40 5LE\, United Kingdom
CATEGORIES:exclude
ATTACH;FMTTYPE=image/jpeg:https://wringtonvillage.com/wp-content/uploads/2025/01/Mother-hen-events.jpg
END:VEVENT
BEGIN:VEVENT
DTSTART;TZID=Europe/London:20300611T100000
DTEND;TZID=Europe/London:20300611T113000
DTSTAMP:20260425T211040
CREATED:20260105T083318Z
LAST-MODIFIED:20260105T083334Z
UID:10003071-1907402400-1907407800@wringtonvillage.com
SUMMARY:What's on at the Mother Hen Cafe & Gifts
DESCRIPTION:Community living room\nFree hot drink tea/coffee  at Mother Hen for the over 65s through the national Warm room initiative xx\nPop along for a chat \, warm drink\, meet friends \, bring a book or play a game xxx
URL:https://wringtonvillage.com/event/whats-on-at-the-mother-hen-cafe-gifts-2-2/2030-06-11/
LOCATION:Mother Hen Coffee & Gifts\, Broad Street\, Wrington\, Bristol\, BS40 5LE\, United Kingdom
CATEGORIES:exclude
ATTACH;FMTTYPE=image/jpeg:https://wringtonvillage.com/wp-content/uploads/2025/01/Mother-hen-events.jpg
END:VEVENT
BEGIN:VEVENT
DTSTART;TZID=Europe/London:20300618T100000
DTEND;TZID=Europe/London:20300618T113000
DTSTAMP:20260425T211040
CREATED:20260105T083318Z
LAST-MODIFIED:20260105T083334Z
UID:10003072-1908007200-1908012600@wringtonvillage.com
SUMMARY:What's on at the Mother Hen Cafe & Gifts
DESCRIPTION:Community living room\nFree hot drink tea/coffee  at Mother Hen for the over 65s through the national Warm room initiative xx\nPop along for a chat \, warm drink\, meet friends \, bring a book or play a game xxx
URL:https://wringtonvillage.com/event/whats-on-at-the-mother-hen-cafe-gifts-2-2/2030-06-18/
LOCATION:Mother Hen Coffee & Gifts\, Broad Street\, Wrington\, Bristol\, BS40 5LE\, United Kingdom
CATEGORIES:exclude
ATTACH;FMTTYPE=image/jpeg:https://wringtonvillage.com/wp-content/uploads/2025/01/Mother-hen-events.jpg
END:VEVENT
BEGIN:VEVENT
DTSTART;TZID=Europe/London:20300625T100000
DTEND;TZID=Europe/London:20300625T113000
DTSTAMP:20260425T211040
CREATED:20260105T083318Z
LAST-MODIFIED:20260105T083334Z
UID:10003073-1908612000-1908617400@wringtonvillage.com
SUMMARY:What's on at the Mother Hen Cafe & Gifts
DESCRIPTION:Community living room\nFree hot drink tea/coffee  at Mother Hen for the over 65s through the national Warm room initiative xx\nPop along for a chat \, warm drink\, meet friends \, bring a book or play a game xxx
URL:https://wringtonvillage.com/event/whats-on-at-the-mother-hen-cafe-gifts-2-2/2030-06-25/
LOCATION:Mother Hen Coffee & Gifts\, Broad Street\, Wrington\, Bristol\, BS40 5LE\, United Kingdom
CATEGORIES:exclude
ATTACH;FMTTYPE=image/jpeg:https://wringtonvillage.com/wp-content/uploads/2025/01/Mother-hen-events.jpg
END:VEVENT
BEGIN:VEVENT
DTSTART;TZID=Europe/London:20300702T100000
DTEND;TZID=Europe/London:20300702T113000
DTSTAMP:20260425T211040
CREATED:20260105T083318Z
LAST-MODIFIED:20260105T083334Z
UID:10003074-1909216800-1909222200@wringtonvillage.com
SUMMARY:What's on at the Mother Hen Cafe & Gifts
DESCRIPTION:Community living room\nFree hot drink tea/coffee  at Mother Hen for the over 65s through the national Warm room initiative xx\nPop along for a chat \, warm drink\, meet friends \, bring a book or play a game xxx
URL:https://wringtonvillage.com/event/whats-on-at-the-mother-hen-cafe-gifts-2-2/2030-07-02/
LOCATION:Mother Hen Coffee & Gifts\, Broad Street\, Wrington\, Bristol\, BS40 5LE\, United Kingdom
CATEGORIES:exclude
ATTACH;FMTTYPE=image/jpeg:https://wringtonvillage.com/wp-content/uploads/2025/01/Mother-hen-events.jpg
END:VEVENT
BEGIN:VEVENT
DTSTART;TZID=Europe/London:20300709T100000
DTEND;TZID=Europe/London:20300709T113000
DTSTAMP:20260425T211040
CREATED:20260105T083318Z
LAST-MODIFIED:20260105T083334Z
UID:10003075-1909821600-1909827000@wringtonvillage.com
SUMMARY:What's on at the Mother Hen Cafe & Gifts
DESCRIPTION:Community living room\nFree hot drink tea/coffee  at Mother Hen for the over 65s through the national Warm room initiative xx\nPop along for a chat \, warm drink\, meet friends \, bring a book or play a game xxx
URL:https://wringtonvillage.com/event/whats-on-at-the-mother-hen-cafe-gifts-2-2/2030-07-09/
LOCATION:Mother Hen Coffee & Gifts\, Broad Street\, Wrington\, Bristol\, BS40 5LE\, United Kingdom
CATEGORIES:exclude
ATTACH;FMTTYPE=image/jpeg:https://wringtonvillage.com/wp-content/uploads/2025/01/Mother-hen-events.jpg
END:VEVENT
BEGIN:VEVENT
DTSTART;TZID=Europe/London:20300716T100000
DTEND;TZID=Europe/London:20300716T113000
DTSTAMP:20260425T211040
CREATED:20260105T083318Z
LAST-MODIFIED:20260105T083334Z
UID:10003076-1910426400-1910431800@wringtonvillage.com
SUMMARY:What's on at the Mother Hen Cafe & Gifts
DESCRIPTION:Community living room\nFree hot drink tea/coffee  at Mother Hen for the over 65s through the national Warm room initiative xx\nPop along for a chat \, warm drink\, meet friends \, bring a book or play a game xxx
URL:https://wringtonvillage.com/event/whats-on-at-the-mother-hen-cafe-gifts-2-2/2030-07-16/
LOCATION:Mother Hen Coffee & Gifts\, Broad Street\, Wrington\, Bristol\, BS40 5LE\, United Kingdom
CATEGORIES:exclude
ATTACH;FMTTYPE=image/jpeg:https://wringtonvillage.com/wp-content/uploads/2025/01/Mother-hen-events.jpg
END:VEVENT
BEGIN:VEVENT
DTSTART;TZID=Europe/London:20300723T100000
DTEND;TZID=Europe/London:20300723T113000
DTSTAMP:20260425T211040
CREATED:20260105T083318Z
LAST-MODIFIED:20260105T083334Z
UID:10003077-1911031200-1911036600@wringtonvillage.com
SUMMARY:What's on at the Mother Hen Cafe & Gifts
DESCRIPTION:Community living room\nFree hot drink tea/coffee  at Mother Hen for the over 65s through the national Warm room initiative xx\nPop along for a chat \, warm drink\, meet friends \, bring a book or play a game xxx
URL:https://wringtonvillage.com/event/whats-on-at-the-mother-hen-cafe-gifts-2-2/2030-07-23/
LOCATION:Mother Hen Coffee & Gifts\, Broad Street\, Wrington\, Bristol\, BS40 5LE\, United Kingdom
CATEGORIES:exclude
ATTACH;FMTTYPE=image/jpeg:https://wringtonvillage.com/wp-content/uploads/2025/01/Mother-hen-events.jpg
END:VEVENT
BEGIN:VEVENT
DTSTART;TZID=Europe/London:20300730T100000
DTEND;TZID=Europe/London:20300730T113000
DTSTAMP:20260425T211040
CREATED:20260105T083318Z
LAST-MODIFIED:20260105T083334Z
UID:10003078-1911636000-1911641400@wringtonvillage.com
SUMMARY:What's on at the Mother Hen Cafe & Gifts
DESCRIPTION:Community living room\nFree hot drink tea/coffee  at Mother Hen for the over 65s through the national Warm room initiative xx\nPop along for a chat \, warm drink\, meet friends \, bring a book or play a game xxx
URL:https://wringtonvillage.com/event/whats-on-at-the-mother-hen-cafe-gifts-2-2/2030-07-30/
LOCATION:Mother Hen Coffee & Gifts\, Broad Street\, Wrington\, Bristol\, BS40 5LE\, United Kingdom
CATEGORIES:exclude
ATTACH;FMTTYPE=image/jpeg:https://wringtonvillage.com/wp-content/uploads/2025/01/Mother-hen-events.jpg
END:VEVENT
BEGIN:VEVENT
DTSTART;TZID=Europe/London:20300806T100000
DTEND;TZID=Europe/London:20300806T113000
DTSTAMP:20260425T211040
CREATED:20260105T083318Z
LAST-MODIFIED:20260105T083334Z
UID:10003079-1912240800-1912246200@wringtonvillage.com
SUMMARY:What's on at the Mother Hen Cafe & Gifts
DESCRIPTION:Community living room\nFree hot drink tea/coffee  at Mother Hen for the over 65s through the national Warm room initiative xx\nPop along for a chat \, warm drink\, meet friends \, bring a book or play a game xxx
URL:https://wringtonvillage.com/event/whats-on-at-the-mother-hen-cafe-gifts-2-2/2030-08-06/
LOCATION:Mother Hen Coffee & Gifts\, Broad Street\, Wrington\, Bristol\, BS40 5LE\, United Kingdom
CATEGORIES:exclude
ATTACH;FMTTYPE=image/jpeg:https://wringtonvillage.com/wp-content/uploads/2025/01/Mother-hen-events.jpg
END:VEVENT
BEGIN:VEVENT
DTSTART;TZID=Europe/London:20300813T100000
DTEND;TZID=Europe/London:20300813T113000
DTSTAMP:20260425T211040
CREATED:20260105T083318Z
LAST-MODIFIED:20260105T083334Z
UID:10003080-1912845600-1912851000@wringtonvillage.com
SUMMARY:What's on at the Mother Hen Cafe & Gifts
DESCRIPTION:Community living room\nFree hot drink tea/coffee  at Mother Hen for the over 65s through the national Warm room initiative xx\nPop along for a chat \, warm drink\, meet friends \, bring a book or play a game xxx
URL:https://wringtonvillage.com/event/whats-on-at-the-mother-hen-cafe-gifts-2-2/2030-08-13/
LOCATION:Mother Hen Coffee & Gifts\, Broad Street\, Wrington\, Bristol\, BS40 5LE\, United Kingdom
CATEGORIES:exclude
ATTACH;FMTTYPE=image/jpeg:https://wringtonvillage.com/wp-content/uploads/2025/01/Mother-hen-events.jpg
END:VEVENT
BEGIN:VEVENT
DTSTART;TZID=Europe/London:20300820T100000
DTEND;TZID=Europe/London:20300820T113000
DTSTAMP:20260425T211040
CREATED:20260105T083318Z
LAST-MODIFIED:20260105T083334Z
UID:10003081-1913450400-1913455800@wringtonvillage.com
SUMMARY:What's on at the Mother Hen Cafe & Gifts
DESCRIPTION:Community living room\nFree hot drink tea/coffee  at Mother Hen for the over 65s through the national Warm room initiative xx\nPop along for a chat \, warm drink\, meet friends \, bring a book or play a game xxx
URL:https://wringtonvillage.com/event/whats-on-at-the-mother-hen-cafe-gifts-2-2/2030-08-20/
LOCATION:Mother Hen Coffee & Gifts\, Broad Street\, Wrington\, Bristol\, BS40 5LE\, United Kingdom
CATEGORIES:exclude
ATTACH;FMTTYPE=image/jpeg:https://wringtonvillage.com/wp-content/uploads/2025/01/Mother-hen-events.jpg
END:VEVENT
BEGIN:VEVENT
DTSTART;TZID=Europe/London:20300827T100000
DTEND;TZID=Europe/London:20300827T113000
DTSTAMP:20260425T211040
CREATED:20260105T083318Z
LAST-MODIFIED:20260105T083334Z
UID:10003082-1914055200-1914060600@wringtonvillage.com
SUMMARY:What's on at the Mother Hen Cafe & Gifts
DESCRIPTION:Community living room\nFree hot drink tea/coffee  at Mother Hen for the over 65s through the national Warm room initiative xx\nPop along for a chat \, warm drink\, meet friends \, bring a book or play a game xxx
URL:https://wringtonvillage.com/event/whats-on-at-the-mother-hen-cafe-gifts-2-2/2030-08-27/
LOCATION:Mother Hen Coffee & Gifts\, Broad Street\, Wrington\, Bristol\, BS40 5LE\, United Kingdom
CATEGORIES:exclude
ATTACH;FMTTYPE=image/jpeg:https://wringtonvillage.com/wp-content/uploads/2025/01/Mother-hen-events.jpg
END:VEVENT
BEGIN:VEVENT
DTSTART;TZID=Europe/London:20300903T100000
DTEND;TZID=Europe/London:20300903T113000
DTSTAMP:20260425T211040
CREATED:20260105T083318Z
LAST-MODIFIED:20260105T083334Z
UID:10003083-1914660000-1914665400@wringtonvillage.com
SUMMARY:What's on at the Mother Hen Cafe & Gifts
DESCRIPTION:Community living room\nFree hot drink tea/coffee  at Mother Hen for the over 65s through the national Warm room initiative xx\nPop along for a chat \, warm drink\, meet friends \, bring a book or play a game xxx
URL:https://wringtonvillage.com/event/whats-on-at-the-mother-hen-cafe-gifts-2-2/2030-09-03/
LOCATION:Mother Hen Coffee & Gifts\, Broad Street\, Wrington\, Bristol\, BS40 5LE\, United Kingdom
CATEGORIES:exclude
ATTACH;FMTTYPE=image/jpeg:https://wringtonvillage.com/wp-content/uploads/2025/01/Mother-hen-events.jpg
END:VEVENT
BEGIN:VEVENT
DTSTART;TZID=Europe/London:20300910T100000
DTEND;TZID=Europe/London:20300910T113000
DTSTAMP:20260425T211040
CREATED:20260105T083318Z
LAST-MODIFIED:20260105T083334Z
UID:10003084-1915264800-1915270200@wringtonvillage.com
SUMMARY:What's on at the Mother Hen Cafe & Gifts
DESCRIPTION:Community living room\nFree hot drink tea/coffee  at Mother Hen for the over 65s through the national Warm room initiative xx\nPop along for a chat \, warm drink\, meet friends \, bring a book or play a game xxx
URL:https://wringtonvillage.com/event/whats-on-at-the-mother-hen-cafe-gifts-2-2/2030-09-10/
LOCATION:Mother Hen Coffee & Gifts\, Broad Street\, Wrington\, Bristol\, BS40 5LE\, United Kingdom
CATEGORIES:exclude
ATTACH;FMTTYPE=image/jpeg:https://wringtonvillage.com/wp-content/uploads/2025/01/Mother-hen-events.jpg
END:VEVENT
BEGIN:VEVENT
DTSTART;TZID=Europe/London:20300917T100000
DTEND;TZID=Europe/London:20300917T113000
DTSTAMP:20260425T211040
CREATED:20260105T083318Z
LAST-MODIFIED:20260105T083334Z
UID:10003085-1915869600-1915875000@wringtonvillage.com
SUMMARY:What's on at the Mother Hen Cafe & Gifts
DESCRIPTION:Community living room\nFree hot drink tea/coffee  at Mother Hen for the over 65s through the national Warm room initiative xx\nPop along for a chat \, warm drink\, meet friends \, bring a book or play a game xxx
URL:https://wringtonvillage.com/event/whats-on-at-the-mother-hen-cafe-gifts-2-2/2030-09-17/
LOCATION:Mother Hen Coffee & Gifts\, Broad Street\, Wrington\, Bristol\, BS40 5LE\, United Kingdom
CATEGORIES:exclude
ATTACH;FMTTYPE=image/jpeg:https://wringtonvillage.com/wp-content/uploads/2025/01/Mother-hen-events.jpg
END:VEVENT
BEGIN:VEVENT
DTSTART;TZID=Europe/London:20300924T100000
DTEND;TZID=Europe/London:20300924T113000
DTSTAMP:20260425T211040
CREATED:20260105T083318Z
LAST-MODIFIED:20260105T083334Z
UID:10003086-1916474400-1916479800@wringtonvillage.com
SUMMARY:What's on at the Mother Hen Cafe & Gifts
DESCRIPTION:Community living room\nFree hot drink tea/coffee  at Mother Hen for the over 65s through the national Warm room initiative xx\nPop along for a chat \, warm drink\, meet friends \, bring a book or play a game xxx
URL:https://wringtonvillage.com/event/whats-on-at-the-mother-hen-cafe-gifts-2-2/2030-09-24/
LOCATION:Mother Hen Coffee & Gifts\, Broad Street\, Wrington\, Bristol\, BS40 5LE\, United Kingdom
CATEGORIES:exclude
ATTACH;FMTTYPE=image/jpeg:https://wringtonvillage.com/wp-content/uploads/2025/01/Mother-hen-events.jpg
END:VEVENT
BEGIN:VEVENT
DTSTART;TZID=Europe/London:20301001T100000
DTEND;TZID=Europe/London:20301001T113000
DTSTAMP:20260425T211040
CREATED:20260105T083318Z
LAST-MODIFIED:20260105T083334Z
UID:10003087-1917079200-1917084600@wringtonvillage.com
SUMMARY:What's on at the Mother Hen Cafe & Gifts
DESCRIPTION:Community living room\nFree hot drink tea/coffee  at Mother Hen for the over 65s through the national Warm room initiative xx\nPop along for a chat \, warm drink\, meet friends \, bring a book or play a game xxx
URL:https://wringtonvillage.com/event/whats-on-at-the-mother-hen-cafe-gifts-2-2/2030-10-01/
LOCATION:Mother Hen Coffee & Gifts\, Broad Street\, Wrington\, Bristol\, BS40 5LE\, United Kingdom
CATEGORIES:exclude
ATTACH;FMTTYPE=image/jpeg:https://wringtonvillage.com/wp-content/uploads/2025/01/Mother-hen-events.jpg
END:VEVENT
BEGIN:VEVENT
DTSTART;TZID=Europe/London:20301008T100000
DTEND;TZID=Europe/London:20301008T113000
DTSTAMP:20260425T211040
CREATED:20260105T083318Z
LAST-MODIFIED:20260105T083334Z
UID:10003088-1917684000-1917689400@wringtonvillage.com
SUMMARY:What's on at the Mother Hen Cafe & Gifts
DESCRIPTION:Community living room\nFree hot drink tea/coffee  at Mother Hen for the over 65s through the national Warm room initiative xx\nPop along for a chat \, warm drink\, meet friends \, bring a book or play a game xxx
URL:https://wringtonvillage.com/event/whats-on-at-the-mother-hen-cafe-gifts-2-2/2030-10-08/
LOCATION:Mother Hen Coffee & Gifts\, Broad Street\, Wrington\, Bristol\, BS40 5LE\, United Kingdom
CATEGORIES:exclude
ATTACH;FMTTYPE=image/jpeg:https://wringtonvillage.com/wp-content/uploads/2025/01/Mother-hen-events.jpg
END:VEVENT
BEGIN:VEVENT
DTSTART;TZID=Europe/London:20301015T100000
DTEND;TZID=Europe/London:20301015T113000
DTSTAMP:20260425T211040
CREATED:20260105T083318Z
LAST-MODIFIED:20260105T083334Z
UID:10003089-1918288800-1918294200@wringtonvillage.com
SUMMARY:What's on at the Mother Hen Cafe & Gifts
DESCRIPTION:Community living room\nFree hot drink tea/coffee  at Mother Hen for the over 65s through the national Warm room initiative xx\nPop along for a chat \, warm drink\, meet friends \, bring a book or play a game xxx
URL:https://wringtonvillage.com/event/whats-on-at-the-mother-hen-cafe-gifts-2-2/2030-10-15/
LOCATION:Mother Hen Coffee & Gifts\, Broad Street\, Wrington\, Bristol\, BS40 5LE\, United Kingdom
CATEGORIES:exclude
ATTACH;FMTTYPE=image/jpeg:https://wringtonvillage.com/wp-content/uploads/2025/01/Mother-hen-events.jpg
END:VEVENT
BEGIN:VEVENT
DTSTART;TZID=Europe/London:20301022T100000
DTEND;TZID=Europe/London:20301022T113000
DTSTAMP:20260425T211040
CREATED:20260105T083318Z
LAST-MODIFIED:20260105T083334Z
UID:10003090-1918893600-1918899000@wringtonvillage.com
SUMMARY:What's on at the Mother Hen Cafe & Gifts
DESCRIPTION:Community living room\nFree hot drink tea/coffee  at Mother Hen for the over 65s through the national Warm room initiative xx\nPop along for a chat \, warm drink\, meet friends \, bring a book or play a game xxx
URL:https://wringtonvillage.com/event/whats-on-at-the-mother-hen-cafe-gifts-2-2/2030-10-22/
LOCATION:Mother Hen Coffee & Gifts\, Broad Street\, Wrington\, Bristol\, BS40 5LE\, United Kingdom
CATEGORIES:exclude
ATTACH;FMTTYPE=image/jpeg:https://wringtonvillage.com/wp-content/uploads/2025/01/Mother-hen-events.jpg
END:VEVENT
END:VCALENDAR