BEGIN:VCALENDAR
VERSION:2.0
PRODID:-//Wrington Village - ECPv6.15.20//NONSGML v1.0//EN
CALSCALE:GREGORIAN
METHOD:PUBLISH
X-WR-CALNAME:Wrington Village
X-ORIGINAL-URL:https://wringtonvillage.com
X-WR-CALDESC:Events for Wrington Village
REFRESH-INTERVAL;VALUE=DURATION:PT1H
X-Robots-Tag:noindex
X-PUBLISHED-TTL:PT1H
BEGIN:VTIMEZONE
TZID:Europe/London
BEGIN:DAYLIGHT
TZOFFSETFROM:+0000
TZOFFSETTO:+0100
TZNAME:BST
DTSTART:20250330T010000
END:DAYLIGHT
BEGIN:STANDARD
TZOFFSETFROM:+0100
TZOFFSETTO:+0000
TZNAME:GMT
DTSTART:20251026T010000
END:STANDARD
BEGIN:DAYLIGHT
TZOFFSETFROM:+0000
TZOFFSETTO:+0100
TZNAME:BST
DTSTART:20260329T010000
END:DAYLIGHT
BEGIN:STANDARD
TZOFFSETFROM:+0100
TZOFFSETTO:+0000
TZNAME:GMT
DTSTART:20261025T010000
END:STANDARD
BEGIN:DAYLIGHT
TZOFFSETFROM:+0000
TZOFFSETTO:+0100
TZNAME:BST
DTSTART:20270328T010000
END:DAYLIGHT
BEGIN:STANDARD
TZOFFSETFROM:+0100
TZOFFSETTO:+0000
TZNAME:GMT
DTSTART:20271031T010000
END:STANDARD
BEGIN:DAYLIGHT
TZOFFSETFROM:+0000
TZOFFSETTO:+0100
TZNAME:BST
DTSTART:20280326T010000
END:DAYLIGHT
BEGIN:STANDARD
TZOFFSETFROM:+0100
TZOFFSETTO:+0000
TZNAME:GMT
DTSTART:20281029T010000
END:STANDARD
BEGIN:DAYLIGHT
TZOFFSETFROM:+0000
TZOFFSETTO:+0100
TZNAME:BST
DTSTART:20290325T010000
END:DAYLIGHT
BEGIN:STANDARD
TZOFFSETFROM:+0100
TZOFFSETTO:+0000
TZNAME:GMT
DTSTART:20291028T010000
END:STANDARD
END:VTIMEZONE
BEGIN:VEVENT
DTSTART;TZID=Europe/London:20260514T193000
DTEND;TZID=Europe/London:20260514T220000
DTSTAMP:20260422T044848
CREATED:20241119T115532Z
LAST-MODIFIED:20241119T115532Z
UID:10000383-1778787000-1778796000@wringtonvillage.com
SUMMARY:Wrington WI - Monthly Meeting
DESCRIPTION:
URL:https://wringtonvillage.com/event/wrington-wi-monthly-meeting/2026-05-14/
LOCATION:Memorial Hall\, Silver Street\, Wrington\, United Kingdom
ATTACH;FMTTYPE=image/jpeg:https://wringtonvillage.com/wp-content/uploads/2024/11/Wrington-WI-New-Members-welcome-page-for-website-March-2023.jpeg
END:VEVENT
BEGIN:VEVENT
DTSTART;TZID=Europe/London:20260611T193000
DTEND;TZID=Europe/London:20260611T220000
DTSTAMP:20260422T044848
CREATED:20241119T115532Z
LAST-MODIFIED:20241119T115532Z
UID:10000384-1781206200-1781215200@wringtonvillage.com
SUMMARY:Wrington WI - Monthly Meeting
DESCRIPTION:
URL:https://wringtonvillage.com/event/wrington-wi-monthly-meeting/2026-06-11/
LOCATION:Memorial Hall\, Silver Street\, Wrington\, United Kingdom
ATTACH;FMTTYPE=image/jpeg:https://wringtonvillage.com/wp-content/uploads/2024/11/Wrington-WI-New-Members-welcome-page-for-website-March-2023.jpeg
END:VEVENT
BEGIN:VEVENT
DTSTART;TZID=Europe/London:20260709T193000
DTEND;TZID=Europe/London:20260709T220000
DTSTAMP:20260422T044848
CREATED:20241119T115532Z
LAST-MODIFIED:20241119T115532Z
UID:10000385-1783625400-1783634400@wringtonvillage.com
SUMMARY:Wrington WI - Monthly Meeting
DESCRIPTION:
URL:https://wringtonvillage.com/event/wrington-wi-monthly-meeting/2026-07-09/
LOCATION:Memorial Hall\, Silver Street\, Wrington\, United Kingdom
ATTACH;FMTTYPE=image/jpeg:https://wringtonvillage.com/wp-content/uploads/2024/11/Wrington-WI-New-Members-welcome-page-for-website-March-2023.jpeg
END:VEVENT
BEGIN:VEVENT
DTSTART;TZID=Europe/London:20260813T193000
DTEND;TZID=Europe/London:20260813T220000
DTSTAMP:20260422T044848
CREATED:20241119T115532Z
LAST-MODIFIED:20241119T115532Z
UID:10000386-1786649400-1786658400@wringtonvillage.com
SUMMARY:Wrington WI - Monthly Meeting
DESCRIPTION:
URL:https://wringtonvillage.com/event/wrington-wi-monthly-meeting/2026-08-13/
LOCATION:Memorial Hall\, Silver Street\, Wrington\, United Kingdom
ATTACH;FMTTYPE=image/jpeg:https://wringtonvillage.com/wp-content/uploads/2024/11/Wrington-WI-New-Members-welcome-page-for-website-March-2023.jpeg
END:VEVENT
BEGIN:VEVENT
DTSTART;TZID=Europe/London:20260910T193000
DTEND;TZID=Europe/London:20260910T220000
DTSTAMP:20260422T044848
CREATED:20241119T115532Z
LAST-MODIFIED:20241119T115532Z
UID:10000387-1789068600-1789077600@wringtonvillage.com
SUMMARY:Wrington WI - Monthly Meeting
DESCRIPTION:
URL:https://wringtonvillage.com/event/wrington-wi-monthly-meeting/2026-09-10/
LOCATION:Memorial Hall\, Silver Street\, Wrington\, United Kingdom
ATTACH;FMTTYPE=image/jpeg:https://wringtonvillage.com/wp-content/uploads/2024/11/Wrington-WI-New-Members-welcome-page-for-website-March-2023.jpeg
END:VEVENT
BEGIN:VEVENT
DTSTART;TZID=Europe/London:20261008T193000
DTEND;TZID=Europe/London:20261008T220000
DTSTAMP:20260422T044848
CREATED:20241119T115532Z
LAST-MODIFIED:20241119T115532Z
UID:10000388-1791487800-1791496800@wringtonvillage.com
SUMMARY:Wrington WI - Monthly Meeting
DESCRIPTION:
URL:https://wringtonvillage.com/event/wrington-wi-monthly-meeting/2026-10-08/
LOCATION:Memorial Hall\, Silver Street\, Wrington\, United Kingdom
ATTACH;FMTTYPE=image/jpeg:https://wringtonvillage.com/wp-content/uploads/2024/11/Wrington-WI-New-Members-welcome-page-for-website-March-2023.jpeg
END:VEVENT
BEGIN:VEVENT
DTSTART;TZID=Europe/London:20261112T193000
DTEND;TZID=Europe/London:20261112T220000
DTSTAMP:20260422T044848
CREATED:20241119T115532Z
LAST-MODIFIED:20241119T115532Z
UID:10000389-1794511800-1794520800@wringtonvillage.com
SUMMARY:Wrington WI - Monthly Meeting
DESCRIPTION:
URL:https://wringtonvillage.com/event/wrington-wi-monthly-meeting/2026-11-12/
LOCATION:Memorial Hall\, Silver Street\, Wrington\, United Kingdom
ATTACH;FMTTYPE=image/jpeg:https://wringtonvillage.com/wp-content/uploads/2024/11/Wrington-WI-New-Members-welcome-page-for-website-March-2023.jpeg
END:VEVENT
BEGIN:VEVENT
DTSTART;TZID=Europe/London:20261210T193000
DTEND;TZID=Europe/London:20261210T220000
DTSTAMP:20260422T044848
CREATED:20241119T115532Z
LAST-MODIFIED:20241119T115532Z
UID:10000390-1796931000-1796940000@wringtonvillage.com
SUMMARY:Wrington WI - Monthly Meeting
DESCRIPTION:
URL:https://wringtonvillage.com/event/wrington-wi-monthly-meeting/2026-12-10/
LOCATION:Memorial Hall\, Silver Street\, Wrington\, United Kingdom
ATTACH;FMTTYPE=image/jpeg:https://wringtonvillage.com/wp-content/uploads/2024/11/Wrington-WI-New-Members-welcome-page-for-website-March-2023.jpeg
END:VEVENT
BEGIN:VEVENT
DTSTART;TZID=Europe/London:20270114T193000
DTEND;TZID=Europe/London:20270114T220000
DTSTAMP:20260422T044848
CREATED:20241119T115532Z
LAST-MODIFIED:20241119T115532Z
UID:10000391-1799955000-1799964000@wringtonvillage.com
SUMMARY:Wrington WI - Monthly Meeting
DESCRIPTION:
URL:https://wringtonvillage.com/event/wrington-wi-monthly-meeting/2027-01-14/
LOCATION:Memorial Hall\, Silver Street\, Wrington\, United Kingdom
ATTACH;FMTTYPE=image/jpeg:https://wringtonvillage.com/wp-content/uploads/2024/11/Wrington-WI-New-Members-welcome-page-for-website-March-2023.jpeg
END:VEVENT
BEGIN:VEVENT
DTSTART;TZID=Europe/London:20270211T193000
DTEND;TZID=Europe/London:20270211T220000
DTSTAMP:20260422T044848
CREATED:20241119T115532Z
LAST-MODIFIED:20241119T115532Z
UID:10000392-1802374200-1802383200@wringtonvillage.com
SUMMARY:Wrington WI - Monthly Meeting
DESCRIPTION:
URL:https://wringtonvillage.com/event/wrington-wi-monthly-meeting/2027-02-11/
LOCATION:Memorial Hall\, Silver Street\, Wrington\, United Kingdom
ATTACH;FMTTYPE=image/jpeg:https://wringtonvillage.com/wp-content/uploads/2024/11/Wrington-WI-New-Members-welcome-page-for-website-March-2023.jpeg
END:VEVENT
BEGIN:VEVENT
DTSTART;TZID=Europe/London:20270311T193000
DTEND;TZID=Europe/London:20270311T220000
DTSTAMP:20260422T044848
CREATED:20241119T115532Z
LAST-MODIFIED:20241119T115532Z
UID:10000393-1804793400-1804802400@wringtonvillage.com
SUMMARY:Wrington WI - Monthly Meeting
DESCRIPTION:
URL:https://wringtonvillage.com/event/wrington-wi-monthly-meeting/2027-03-11/
LOCATION:Memorial Hall\, Silver Street\, Wrington\, United Kingdom
ATTACH;FMTTYPE=image/jpeg:https://wringtonvillage.com/wp-content/uploads/2024/11/Wrington-WI-New-Members-welcome-page-for-website-March-2023.jpeg
END:VEVENT
BEGIN:VEVENT
DTSTART;TZID=Europe/London:20270408T193000
DTEND;TZID=Europe/London:20270408T220000
DTSTAMP:20260422T044848
CREATED:20241119T115532Z
LAST-MODIFIED:20241119T115532Z
UID:10000394-1807212600-1807221600@wringtonvillage.com
SUMMARY:Wrington WI - Monthly Meeting
DESCRIPTION:
URL:https://wringtonvillage.com/event/wrington-wi-monthly-meeting/2027-04-08/
LOCATION:Memorial Hall\, Silver Street\, Wrington\, United Kingdom
ATTACH;FMTTYPE=image/jpeg:https://wringtonvillage.com/wp-content/uploads/2024/11/Wrington-WI-New-Members-welcome-page-for-website-March-2023.jpeg
END:VEVENT
BEGIN:VEVENT
DTSTART;TZID=Europe/London:20270513T193000
DTEND;TZID=Europe/London:20270513T220000
DTSTAMP:20260422T044848
CREATED:20241119T115532Z
LAST-MODIFIED:20241119T115532Z
UID:10000395-1810236600-1810245600@wringtonvillage.com
SUMMARY:Wrington WI - Monthly Meeting
DESCRIPTION:
URL:https://wringtonvillage.com/event/wrington-wi-monthly-meeting/2027-05-13/
LOCATION:Memorial Hall\, Silver Street\, Wrington\, United Kingdom
ATTACH;FMTTYPE=image/jpeg:https://wringtonvillage.com/wp-content/uploads/2024/11/Wrington-WI-New-Members-welcome-page-for-website-March-2023.jpeg
END:VEVENT
BEGIN:VEVENT
DTSTART;TZID=Europe/London:20270610T193000
DTEND;TZID=Europe/London:20270610T220000
DTSTAMP:20260422T044848
CREATED:20241119T115532Z
LAST-MODIFIED:20241119T115532Z
UID:10000396-1812655800-1812664800@wringtonvillage.com
SUMMARY:Wrington WI - Monthly Meeting
DESCRIPTION:
URL:https://wringtonvillage.com/event/wrington-wi-monthly-meeting/2027-06-10/
LOCATION:Memorial Hall\, Silver Street\, Wrington\, United Kingdom
ATTACH;FMTTYPE=image/jpeg:https://wringtonvillage.com/wp-content/uploads/2024/11/Wrington-WI-New-Members-welcome-page-for-website-March-2023.jpeg
END:VEVENT
BEGIN:VEVENT
DTSTART;TZID=Europe/London:20270708T193000
DTEND;TZID=Europe/London:20270708T220000
DTSTAMP:20260422T044848
CREATED:20241119T115532Z
LAST-MODIFIED:20241119T115532Z
UID:10000397-1815075000-1815084000@wringtonvillage.com
SUMMARY:Wrington WI - Monthly Meeting
DESCRIPTION:
URL:https://wringtonvillage.com/event/wrington-wi-monthly-meeting/2027-07-08/
LOCATION:Memorial Hall\, Silver Street\, Wrington\, United Kingdom
ATTACH;FMTTYPE=image/jpeg:https://wringtonvillage.com/wp-content/uploads/2024/11/Wrington-WI-New-Members-welcome-page-for-website-March-2023.jpeg
END:VEVENT
BEGIN:VEVENT
DTSTART;TZID=Europe/London:20270812T193000
DTEND;TZID=Europe/London:20270812T220000
DTSTAMP:20260422T044848
CREATED:20241119T115532Z
LAST-MODIFIED:20241119T115532Z
UID:10000398-1818099000-1818108000@wringtonvillage.com
SUMMARY:Wrington WI - Monthly Meeting
DESCRIPTION:
URL:https://wringtonvillage.com/event/wrington-wi-monthly-meeting/2027-08-12/
LOCATION:Memorial Hall\, Silver Street\, Wrington\, United Kingdom
ATTACH;FMTTYPE=image/jpeg:https://wringtonvillage.com/wp-content/uploads/2024/11/Wrington-WI-New-Members-welcome-page-for-website-March-2023.jpeg
END:VEVENT
BEGIN:VEVENT
DTSTART;TZID=Europe/London:20270909T193000
DTEND;TZID=Europe/London:20270909T220000
DTSTAMP:20260422T044848
CREATED:20241119T115532Z
LAST-MODIFIED:20241119T115532Z
UID:10000399-1820518200-1820527200@wringtonvillage.com
SUMMARY:Wrington WI - Monthly Meeting
DESCRIPTION:
URL:https://wringtonvillage.com/event/wrington-wi-monthly-meeting/2027-09-09/
LOCATION:Memorial Hall\, Silver Street\, Wrington\, United Kingdom
ATTACH;FMTTYPE=image/jpeg:https://wringtonvillage.com/wp-content/uploads/2024/11/Wrington-WI-New-Members-welcome-page-for-website-March-2023.jpeg
END:VEVENT
BEGIN:VEVENT
DTSTART;TZID=Europe/London:20271014T193000
DTEND;TZID=Europe/London:20271014T220000
DTSTAMP:20260422T044848
CREATED:20241119T115532Z
LAST-MODIFIED:20241119T115532Z
UID:10000400-1823542200-1823551200@wringtonvillage.com
SUMMARY:Wrington WI - Monthly Meeting
DESCRIPTION:
URL:https://wringtonvillage.com/event/wrington-wi-monthly-meeting/2027-10-14/
LOCATION:Memorial Hall\, Silver Street\, Wrington\, United Kingdom
ATTACH;FMTTYPE=image/jpeg:https://wringtonvillage.com/wp-content/uploads/2024/11/Wrington-WI-New-Members-welcome-page-for-website-March-2023.jpeg
END:VEVENT
BEGIN:VEVENT
DTSTART;TZID=Europe/London:20271111T193000
DTEND;TZID=Europe/London:20271111T220000
DTSTAMP:20260422T044848
CREATED:20241119T115532Z
LAST-MODIFIED:20241119T115532Z
UID:10000401-1825961400-1825970400@wringtonvillage.com
SUMMARY:Wrington WI - Monthly Meeting
DESCRIPTION:
URL:https://wringtonvillage.com/event/wrington-wi-monthly-meeting/2027-11-11/
LOCATION:Memorial Hall\, Silver Street\, Wrington\, United Kingdom
ATTACH;FMTTYPE=image/jpeg:https://wringtonvillage.com/wp-content/uploads/2024/11/Wrington-WI-New-Members-welcome-page-for-website-March-2023.jpeg
END:VEVENT
BEGIN:VEVENT
DTSTART;TZID=Europe/London:20271209T193000
DTEND;TZID=Europe/London:20271209T220000
DTSTAMP:20260422T044848
CREATED:20241119T115532Z
LAST-MODIFIED:20241119T115532Z
UID:10000402-1828380600-1828389600@wringtonvillage.com
SUMMARY:Wrington WI - Monthly Meeting
DESCRIPTION:
URL:https://wringtonvillage.com/event/wrington-wi-monthly-meeting/2027-12-09/
LOCATION:Memorial Hall\, Silver Street\, Wrington\, United Kingdom
ATTACH;FMTTYPE=image/jpeg:https://wringtonvillage.com/wp-content/uploads/2024/11/Wrington-WI-New-Members-welcome-page-for-website-March-2023.jpeg
END:VEVENT
BEGIN:VEVENT
DTSTART;TZID=Europe/London:20280113T193000
DTEND;TZID=Europe/London:20280113T220000
DTSTAMP:20260422T044848
CREATED:20241119T115532Z
LAST-MODIFIED:20241119T115532Z
UID:10000403-1831404600-1831413600@wringtonvillage.com
SUMMARY:Wrington WI - Monthly Meeting
DESCRIPTION:
URL:https://wringtonvillage.com/event/wrington-wi-monthly-meeting/2028-01-13/
LOCATION:Memorial Hall\, Silver Street\, Wrington\, United Kingdom
ATTACH;FMTTYPE=image/jpeg:https://wringtonvillage.com/wp-content/uploads/2024/11/Wrington-WI-New-Members-welcome-page-for-website-March-2023.jpeg
END:VEVENT
BEGIN:VEVENT
DTSTART;TZID=Europe/London:20280210T193000
DTEND;TZID=Europe/London:20280210T220000
DTSTAMP:20260422T044848
CREATED:20241119T115532Z
LAST-MODIFIED:20241119T115532Z
UID:10000404-1833823800-1833832800@wringtonvillage.com
SUMMARY:Wrington WI - Monthly Meeting
DESCRIPTION:
URL:https://wringtonvillage.com/event/wrington-wi-monthly-meeting/2028-02-10/
LOCATION:Memorial Hall\, Silver Street\, Wrington\, United Kingdom
ATTACH;FMTTYPE=image/jpeg:https://wringtonvillage.com/wp-content/uploads/2024/11/Wrington-WI-New-Members-welcome-page-for-website-March-2023.jpeg
END:VEVENT
BEGIN:VEVENT
DTSTART;TZID=Europe/London:20280309T193000
DTEND;TZID=Europe/London:20280309T220000
DTSTAMP:20260422T044848
CREATED:20241119T115532Z
LAST-MODIFIED:20241119T115532Z
UID:10000405-1836243000-1836252000@wringtonvillage.com
SUMMARY:Wrington WI - Monthly Meeting
DESCRIPTION:
URL:https://wringtonvillage.com/event/wrington-wi-monthly-meeting/2028-03-09/
LOCATION:Memorial Hall\, Silver Street\, Wrington\, United Kingdom
ATTACH;FMTTYPE=image/jpeg:https://wringtonvillage.com/wp-content/uploads/2024/11/Wrington-WI-New-Members-welcome-page-for-website-March-2023.jpeg
END:VEVENT
BEGIN:VEVENT
DTSTART;TZID=Europe/London:20280413T193000
DTEND;TZID=Europe/London:20280413T220000
DTSTAMP:20260422T044848
CREATED:20241119T115532Z
LAST-MODIFIED:20241119T115532Z
UID:10000406-1839267000-1839276000@wringtonvillage.com
SUMMARY:Wrington WI - Monthly Meeting
DESCRIPTION:
URL:https://wringtonvillage.com/event/wrington-wi-monthly-meeting/2028-04-13/
LOCATION:Memorial Hall\, Silver Street\, Wrington\, United Kingdom
ATTACH;FMTTYPE=image/jpeg:https://wringtonvillage.com/wp-content/uploads/2024/11/Wrington-WI-New-Members-welcome-page-for-website-March-2023.jpeg
END:VEVENT
BEGIN:VEVENT
DTSTART;TZID=Europe/London:20280511T193000
DTEND;TZID=Europe/London:20280511T220000
DTSTAMP:20260422T044848
CREATED:20241119T115532Z
LAST-MODIFIED:20241119T115532Z
UID:10000407-1841686200-1841695200@wringtonvillage.com
SUMMARY:Wrington WI - Monthly Meeting
DESCRIPTION:
URL:https://wringtonvillage.com/event/wrington-wi-monthly-meeting/2028-05-11/
LOCATION:Memorial Hall\, Silver Street\, Wrington\, United Kingdom
ATTACH;FMTTYPE=image/jpeg:https://wringtonvillage.com/wp-content/uploads/2024/11/Wrington-WI-New-Members-welcome-page-for-website-March-2023.jpeg
END:VEVENT
BEGIN:VEVENT
DTSTART;TZID=Europe/London:20280608T193000
DTEND;TZID=Europe/London:20280608T220000
DTSTAMP:20260422T044848
CREATED:20241119T115532Z
LAST-MODIFIED:20241119T115532Z
UID:10000408-1844105400-1844114400@wringtonvillage.com
SUMMARY:Wrington WI - Monthly Meeting
DESCRIPTION:
URL:https://wringtonvillage.com/event/wrington-wi-monthly-meeting/2028-06-08/
LOCATION:Memorial Hall\, Silver Street\, Wrington\, United Kingdom
ATTACH;FMTTYPE=image/jpeg:https://wringtonvillage.com/wp-content/uploads/2024/11/Wrington-WI-New-Members-welcome-page-for-website-March-2023.jpeg
END:VEVENT
BEGIN:VEVENT
DTSTART;TZID=Europe/London:20280713T193000
DTEND;TZID=Europe/London:20280713T220000
DTSTAMP:20260422T044848
CREATED:20241119T115532Z
LAST-MODIFIED:20241119T115532Z
UID:10000409-1847129400-1847138400@wringtonvillage.com
SUMMARY:Wrington WI - Monthly Meeting
DESCRIPTION:
URL:https://wringtonvillage.com/event/wrington-wi-monthly-meeting/2028-07-13/
LOCATION:Memorial Hall\, Silver Street\, Wrington\, United Kingdom
ATTACH;FMTTYPE=image/jpeg:https://wringtonvillage.com/wp-content/uploads/2024/11/Wrington-WI-New-Members-welcome-page-for-website-March-2023.jpeg
END:VEVENT
BEGIN:VEVENT
DTSTART;TZID=Europe/London:20280810T193000
DTEND;TZID=Europe/London:20280810T220000
DTSTAMP:20260422T044848
CREATED:20241119T115532Z
LAST-MODIFIED:20241119T115532Z
UID:10000410-1849548600-1849557600@wringtonvillage.com
SUMMARY:Wrington WI - Monthly Meeting
DESCRIPTION:
URL:https://wringtonvillage.com/event/wrington-wi-monthly-meeting/2028-08-10/
LOCATION:Memorial Hall\, Silver Street\, Wrington\, United Kingdom
ATTACH;FMTTYPE=image/jpeg:https://wringtonvillage.com/wp-content/uploads/2024/11/Wrington-WI-New-Members-welcome-page-for-website-March-2023.jpeg
END:VEVENT
BEGIN:VEVENT
DTSTART;TZID=Europe/London:20280914T193000
DTEND;TZID=Europe/London:20280914T220000
DTSTAMP:20260422T044848
CREATED:20241119T115532Z
LAST-MODIFIED:20241119T115532Z
UID:10000411-1852572600-1852581600@wringtonvillage.com
SUMMARY:Wrington WI - Monthly Meeting
DESCRIPTION:
URL:https://wringtonvillage.com/event/wrington-wi-monthly-meeting/2028-09-14/
LOCATION:Memorial Hall\, Silver Street\, Wrington\, United Kingdom
ATTACH;FMTTYPE=image/jpeg:https://wringtonvillage.com/wp-content/uploads/2024/11/Wrington-WI-New-Members-welcome-page-for-website-March-2023.jpeg
END:VEVENT
BEGIN:VEVENT
DTSTART;TZID=Europe/London:20281012T193000
DTEND;TZID=Europe/London:20281012T220000
DTSTAMP:20260422T044848
CREATED:20241119T115532Z
LAST-MODIFIED:20241119T115532Z
UID:10000412-1854991800-1855000800@wringtonvillage.com
SUMMARY:Wrington WI - Monthly Meeting
DESCRIPTION:
URL:https://wringtonvillage.com/event/wrington-wi-monthly-meeting/2028-10-12/
LOCATION:Memorial Hall\, Silver Street\, Wrington\, United Kingdom
ATTACH;FMTTYPE=image/jpeg:https://wringtonvillage.com/wp-content/uploads/2024/11/Wrington-WI-New-Members-welcome-page-for-website-March-2023.jpeg
END:VEVENT
END:VCALENDAR