BEGIN:VCALENDAR
VERSION:2.0
PRODID:-//Wrington Village - ECPv6.15.20//NONSGML v1.0//EN
CALSCALE:GREGORIAN
METHOD:PUBLISH
X-ORIGINAL-URL:https://wringtonvillage.com
X-WR-CALDESC:Events for Wrington Village
REFRESH-INTERVAL;VALUE=DURATION:PT1H
X-Robots-Tag:noindex
X-PUBLISHED-TTL:PT1H
BEGIN:VTIMEZONE
TZID:Europe/London
BEGIN:DAYLIGHT
TZOFFSETFROM:+0000
TZOFFSETTO:+0100
TZNAME:BST
DTSTART:20270328T010000
END:DAYLIGHT
BEGIN:STANDARD
TZOFFSETFROM:+0100
TZOFFSETTO:+0000
TZNAME:GMT
DTSTART:20271031T010000
END:STANDARD
BEGIN:DAYLIGHT
TZOFFSETFROM:+0000
TZOFFSETTO:+0100
TZNAME:BST
DTSTART:20280326T010000
END:DAYLIGHT
BEGIN:STANDARD
TZOFFSETFROM:+0100
TZOFFSETTO:+0000
TZNAME:GMT
DTSTART:20281029T010000
END:STANDARD
BEGIN:DAYLIGHT
TZOFFSETFROM:+0000
TZOFFSETTO:+0100
TZNAME:BST
DTSTART:20290325T010000
END:DAYLIGHT
BEGIN:STANDARD
TZOFFSETFROM:+0100
TZOFFSETTO:+0000
TZNAME:GMT
DTSTART:20291028T010000
END:STANDARD
END:VTIMEZONE
BEGIN:VEVENT
DTSTART;TZID=Europe/London:20280228T100000
DTEND;TZID=Europe/London:20280228T120000
DTSTAMP:20260421T032533
CREATED:20250725T105937Z
LAST-MODIFIED:20250913T070452Z
UID:10002651-1835344800-1835352000@wringtonvillage.com
SUMMARY:Bowls Coaching
DESCRIPTION:For anyone who wants to try or improve\, new or existing bowlers \nFree tea\, coffee and biscuits and conversation also available.
URL:https://wringtonvillage.com/event/bowls-coaching-2/2028-02-28/
LOCATION:Wrington Bowling Club\, The Rec\, Wrington\, United Kingdom
ATTACH;FMTTYPE=image/jpeg:https://wringtonvillage.com/wp-content/uploads/2025/07/bowling-club-event.jpeg
END:VEVENT
BEGIN:VEVENT
DTSTART;TZID=Europe/London:20280306T100000
DTEND;TZID=Europe/London:20280306T120000
DTSTAMP:20260421T032534
CREATED:20250725T105937Z
LAST-MODIFIED:20250913T070452Z
UID:10002652-1835949600-1835956800@wringtonvillage.com
SUMMARY:Bowls Coaching
DESCRIPTION:For anyone who wants to try or improve\, new or existing bowlers \nFree tea\, coffee and biscuits and conversation also available.
URL:https://wringtonvillage.com/event/bowls-coaching-2/2028-03-06/
LOCATION:Wrington Bowling Club\, The Rec\, Wrington\, United Kingdom
ATTACH;FMTTYPE=image/jpeg:https://wringtonvillage.com/wp-content/uploads/2025/07/bowling-club-event.jpeg
END:VEVENT
BEGIN:VEVENT
DTSTART;TZID=Europe/London:20280313T100000
DTEND;TZID=Europe/London:20280313T120000
DTSTAMP:20260421T032534
CREATED:20250725T105937Z
LAST-MODIFIED:20250913T070452Z
UID:10002653-1836554400-1836561600@wringtonvillage.com
SUMMARY:Bowls Coaching
DESCRIPTION:For anyone who wants to try or improve\, new or existing bowlers \nFree tea\, coffee and biscuits and conversation also available.
URL:https://wringtonvillage.com/event/bowls-coaching-2/2028-03-13/
LOCATION:Wrington Bowling Club\, The Rec\, Wrington\, United Kingdom
ATTACH;FMTTYPE=image/jpeg:https://wringtonvillage.com/wp-content/uploads/2025/07/bowling-club-event.jpeg
END:VEVENT
BEGIN:VEVENT
DTSTART;TZID=Europe/London:20280320T100000
DTEND;TZID=Europe/London:20280320T120000
DTSTAMP:20260421T032534
CREATED:20250725T105937Z
LAST-MODIFIED:20250913T070452Z
UID:10002654-1837159200-1837166400@wringtonvillage.com
SUMMARY:Bowls Coaching
DESCRIPTION:For anyone who wants to try or improve\, new or existing bowlers \nFree tea\, coffee and biscuits and conversation also available.
URL:https://wringtonvillage.com/event/bowls-coaching-2/2028-03-20/
LOCATION:Wrington Bowling Club\, The Rec\, Wrington\, United Kingdom
ATTACH;FMTTYPE=image/jpeg:https://wringtonvillage.com/wp-content/uploads/2025/07/bowling-club-event.jpeg
END:VEVENT
BEGIN:VEVENT
DTSTART;TZID=Europe/London:20280327T100000
DTEND;TZID=Europe/London:20280327T120000
DTSTAMP:20260421T032534
CREATED:20250725T105937Z
LAST-MODIFIED:20250913T070452Z
UID:10002655-1837764000-1837771200@wringtonvillage.com
SUMMARY:Bowls Coaching
DESCRIPTION:For anyone who wants to try or improve\, new or existing bowlers \nFree tea\, coffee and biscuits and conversation also available.
URL:https://wringtonvillage.com/event/bowls-coaching-2/2028-03-27/
LOCATION:Wrington Bowling Club\, The Rec\, Wrington\, United Kingdom
ATTACH;FMTTYPE=image/jpeg:https://wringtonvillage.com/wp-content/uploads/2025/07/bowling-club-event.jpeg
END:VEVENT
BEGIN:VEVENT
DTSTART;TZID=Europe/London:20280403T100000
DTEND;TZID=Europe/London:20280403T120000
DTSTAMP:20260421T032534
CREATED:20250725T105937Z
LAST-MODIFIED:20250913T070452Z
UID:10002656-1838368800-1838376000@wringtonvillage.com
SUMMARY:Bowls Coaching
DESCRIPTION:For anyone who wants to try or improve\, new or existing bowlers \nFree tea\, coffee and biscuits and conversation also available.
URL:https://wringtonvillage.com/event/bowls-coaching-2/2028-04-03/
LOCATION:Wrington Bowling Club\, The Rec\, Wrington\, United Kingdom
ATTACH;FMTTYPE=image/jpeg:https://wringtonvillage.com/wp-content/uploads/2025/07/bowling-club-event.jpeg
END:VEVENT
BEGIN:VEVENT
DTSTART;TZID=Europe/London:20280410T100000
DTEND;TZID=Europe/London:20280410T120000
DTSTAMP:20260421T032534
CREATED:20250725T105937Z
LAST-MODIFIED:20250913T070452Z
UID:10002657-1838973600-1838980800@wringtonvillage.com
SUMMARY:Bowls Coaching
DESCRIPTION:For anyone who wants to try or improve\, new or existing bowlers \nFree tea\, coffee and biscuits and conversation also available.
URL:https://wringtonvillage.com/event/bowls-coaching-2/2028-04-10/
LOCATION:Wrington Bowling Club\, The Rec\, Wrington\, United Kingdom
ATTACH;FMTTYPE=image/jpeg:https://wringtonvillage.com/wp-content/uploads/2025/07/bowling-club-event.jpeg
END:VEVENT
BEGIN:VEVENT
DTSTART;TZID=Europe/London:20280417T100000
DTEND;TZID=Europe/London:20280417T120000
DTSTAMP:20260421T032534
CREATED:20250725T105937Z
LAST-MODIFIED:20250913T070452Z
UID:10002658-1839578400-1839585600@wringtonvillage.com
SUMMARY:Bowls Coaching
DESCRIPTION:For anyone who wants to try or improve\, new or existing bowlers \nFree tea\, coffee and biscuits and conversation also available.
URL:https://wringtonvillage.com/event/bowls-coaching-2/2028-04-17/
LOCATION:Wrington Bowling Club\, The Rec\, Wrington\, United Kingdom
ATTACH;FMTTYPE=image/jpeg:https://wringtonvillage.com/wp-content/uploads/2025/07/bowling-club-event.jpeg
END:VEVENT
BEGIN:VEVENT
DTSTART;TZID=Europe/London:20280424T100000
DTEND;TZID=Europe/London:20280424T120000
DTSTAMP:20260421T032534
CREATED:20250725T105937Z
LAST-MODIFIED:20250913T070452Z
UID:10002659-1840183200-1840190400@wringtonvillage.com
SUMMARY:Bowls Coaching
DESCRIPTION:For anyone who wants to try or improve\, new or existing bowlers \nFree tea\, coffee and biscuits and conversation also available.
URL:https://wringtonvillage.com/event/bowls-coaching-2/2028-04-24/
LOCATION:Wrington Bowling Club\, The Rec\, Wrington\, United Kingdom
ATTACH;FMTTYPE=image/jpeg:https://wringtonvillage.com/wp-content/uploads/2025/07/bowling-club-event.jpeg
END:VEVENT
BEGIN:VEVENT
DTSTART;TZID=Europe/London:20280501T100000
DTEND;TZID=Europe/London:20280501T120000
DTSTAMP:20260421T032534
CREATED:20250725T105937Z
LAST-MODIFIED:20250913T070452Z
UID:10002660-1840788000-1840795200@wringtonvillage.com
SUMMARY:Bowls Coaching
DESCRIPTION:For anyone who wants to try or improve\, new or existing bowlers \nFree tea\, coffee and biscuits and conversation also available.
URL:https://wringtonvillage.com/event/bowls-coaching-2/2028-05-01/
LOCATION:Wrington Bowling Club\, The Rec\, Wrington\, United Kingdom
ATTACH;FMTTYPE=image/jpeg:https://wringtonvillage.com/wp-content/uploads/2025/07/bowling-club-event.jpeg
END:VEVENT
BEGIN:VEVENT
DTSTART;TZID=Europe/London:20280508T100000
DTEND;TZID=Europe/London:20280508T120000
DTSTAMP:20260421T032534
CREATED:20250725T105937Z
LAST-MODIFIED:20250913T070452Z
UID:10002661-1841392800-1841400000@wringtonvillage.com
SUMMARY:Bowls Coaching
DESCRIPTION:For anyone who wants to try or improve\, new or existing bowlers \nFree tea\, coffee and biscuits and conversation also available.
URL:https://wringtonvillage.com/event/bowls-coaching-2/2028-05-08/
LOCATION:Wrington Bowling Club\, The Rec\, Wrington\, United Kingdom
ATTACH;FMTTYPE=image/jpeg:https://wringtonvillage.com/wp-content/uploads/2025/07/bowling-club-event.jpeg
END:VEVENT
BEGIN:VEVENT
DTSTART;TZID=Europe/London:20280515T100000
DTEND;TZID=Europe/London:20280515T120000
DTSTAMP:20260421T032534
CREATED:20250725T105937Z
LAST-MODIFIED:20250913T070452Z
UID:10002662-1841997600-1842004800@wringtonvillage.com
SUMMARY:Bowls Coaching
DESCRIPTION:For anyone who wants to try or improve\, new or existing bowlers \nFree tea\, coffee and biscuits and conversation also available.
URL:https://wringtonvillage.com/event/bowls-coaching-2/2028-05-15/
LOCATION:Wrington Bowling Club\, The Rec\, Wrington\, United Kingdom
ATTACH;FMTTYPE=image/jpeg:https://wringtonvillage.com/wp-content/uploads/2025/07/bowling-club-event.jpeg
END:VEVENT
BEGIN:VEVENT
DTSTART;TZID=Europe/London:20280522T100000
DTEND;TZID=Europe/London:20280522T120000
DTSTAMP:20260421T032534
CREATED:20250725T105937Z
LAST-MODIFIED:20250913T070452Z
UID:10002663-1842602400-1842609600@wringtonvillage.com
SUMMARY:Bowls Coaching
DESCRIPTION:For anyone who wants to try or improve\, new or existing bowlers \nFree tea\, coffee and biscuits and conversation also available.
URL:https://wringtonvillage.com/event/bowls-coaching-2/2028-05-22/
LOCATION:Wrington Bowling Club\, The Rec\, Wrington\, United Kingdom
ATTACH;FMTTYPE=image/jpeg:https://wringtonvillage.com/wp-content/uploads/2025/07/bowling-club-event.jpeg
END:VEVENT
BEGIN:VEVENT
DTSTART;TZID=Europe/London:20280529T100000
DTEND;TZID=Europe/London:20280529T120000
DTSTAMP:20260421T032534
CREATED:20250725T105937Z
LAST-MODIFIED:20250913T070452Z
UID:10002664-1843207200-1843214400@wringtonvillage.com
SUMMARY:Bowls Coaching
DESCRIPTION:For anyone who wants to try or improve\, new or existing bowlers \nFree tea\, coffee and biscuits and conversation also available.
URL:https://wringtonvillage.com/event/bowls-coaching-2/2028-05-29/
LOCATION:Wrington Bowling Club\, The Rec\, Wrington\, United Kingdom
ATTACH;FMTTYPE=image/jpeg:https://wringtonvillage.com/wp-content/uploads/2025/07/bowling-club-event.jpeg
END:VEVENT
BEGIN:VEVENT
DTSTART;TZID=Europe/London:20280605T100000
DTEND;TZID=Europe/London:20280605T120000
DTSTAMP:20260421T032534
CREATED:20250725T105937Z
LAST-MODIFIED:20250913T070452Z
UID:10002665-1843812000-1843819200@wringtonvillage.com
SUMMARY:Bowls Coaching
DESCRIPTION:For anyone who wants to try or improve\, new or existing bowlers \nFree tea\, coffee and biscuits and conversation also available.
URL:https://wringtonvillage.com/event/bowls-coaching-2/2028-06-05/
LOCATION:Wrington Bowling Club\, The Rec\, Wrington\, United Kingdom
ATTACH;FMTTYPE=image/jpeg:https://wringtonvillage.com/wp-content/uploads/2025/07/bowling-club-event.jpeg
END:VEVENT
BEGIN:VEVENT
DTSTART;TZID=Europe/London:20280612T100000
DTEND;TZID=Europe/London:20280612T120000
DTSTAMP:20260421T032534
CREATED:20250725T105937Z
LAST-MODIFIED:20250913T070452Z
UID:10002666-1844416800-1844424000@wringtonvillage.com
SUMMARY:Bowls Coaching
DESCRIPTION:For anyone who wants to try or improve\, new or existing bowlers \nFree tea\, coffee and biscuits and conversation also available.
URL:https://wringtonvillage.com/event/bowls-coaching-2/2028-06-12/
LOCATION:Wrington Bowling Club\, The Rec\, Wrington\, United Kingdom
ATTACH;FMTTYPE=image/jpeg:https://wringtonvillage.com/wp-content/uploads/2025/07/bowling-club-event.jpeg
END:VEVENT
BEGIN:VEVENT
DTSTART;TZID=Europe/London:20280619T100000
DTEND;TZID=Europe/London:20280619T120000
DTSTAMP:20260421T032534
CREATED:20250725T105937Z
LAST-MODIFIED:20250913T070452Z
UID:10002667-1845021600-1845028800@wringtonvillage.com
SUMMARY:Bowls Coaching
DESCRIPTION:For anyone who wants to try or improve\, new or existing bowlers \nFree tea\, coffee and biscuits and conversation also available.
URL:https://wringtonvillage.com/event/bowls-coaching-2/2028-06-19/
LOCATION:Wrington Bowling Club\, The Rec\, Wrington\, United Kingdom
ATTACH;FMTTYPE=image/jpeg:https://wringtonvillage.com/wp-content/uploads/2025/07/bowling-club-event.jpeg
END:VEVENT
BEGIN:VEVENT
DTSTART;TZID=Europe/London:20280626T100000
DTEND;TZID=Europe/London:20280626T120000
DTSTAMP:20260421T032534
CREATED:20250725T105937Z
LAST-MODIFIED:20250913T070452Z
UID:10002668-1845626400-1845633600@wringtonvillage.com
SUMMARY:Bowls Coaching
DESCRIPTION:For anyone who wants to try or improve\, new or existing bowlers \nFree tea\, coffee and biscuits and conversation also available.
URL:https://wringtonvillage.com/event/bowls-coaching-2/2028-06-26/
LOCATION:Wrington Bowling Club\, The Rec\, Wrington\, United Kingdom
ATTACH;FMTTYPE=image/jpeg:https://wringtonvillage.com/wp-content/uploads/2025/07/bowling-club-event.jpeg
END:VEVENT
BEGIN:VEVENT
DTSTART;TZID=Europe/London:20280703T100000
DTEND;TZID=Europe/London:20280703T120000
DTSTAMP:20260421T032534
CREATED:20250725T105937Z
LAST-MODIFIED:20250913T070452Z
UID:10002669-1846231200-1846238400@wringtonvillage.com
SUMMARY:Bowls Coaching
DESCRIPTION:For anyone who wants to try or improve\, new or existing bowlers \nFree tea\, coffee and biscuits and conversation also available.
URL:https://wringtonvillage.com/event/bowls-coaching-2/2028-07-03/
LOCATION:Wrington Bowling Club\, The Rec\, Wrington\, United Kingdom
ATTACH;FMTTYPE=image/jpeg:https://wringtonvillage.com/wp-content/uploads/2025/07/bowling-club-event.jpeg
END:VEVENT
BEGIN:VEVENT
DTSTART;TZID=Europe/London:20280710T100000
DTEND;TZID=Europe/London:20280710T120000
DTSTAMP:20260421T032534
CREATED:20250725T105937Z
LAST-MODIFIED:20250913T070452Z
UID:10002670-1846836000-1846843200@wringtonvillage.com
SUMMARY:Bowls Coaching
DESCRIPTION:For anyone who wants to try or improve\, new or existing bowlers \nFree tea\, coffee and biscuits and conversation also available.
URL:https://wringtonvillage.com/event/bowls-coaching-2/2028-07-10/
LOCATION:Wrington Bowling Club\, The Rec\, Wrington\, United Kingdom
ATTACH;FMTTYPE=image/jpeg:https://wringtonvillage.com/wp-content/uploads/2025/07/bowling-club-event.jpeg
END:VEVENT
BEGIN:VEVENT
DTSTART;TZID=Europe/London:20280717T100000
DTEND;TZID=Europe/London:20280717T120000
DTSTAMP:20260421T032534
CREATED:20250725T105937Z
LAST-MODIFIED:20250913T070452Z
UID:10002671-1847440800-1847448000@wringtonvillage.com
SUMMARY:Bowls Coaching
DESCRIPTION:For anyone who wants to try or improve\, new or existing bowlers \nFree tea\, coffee and biscuits and conversation also available.
URL:https://wringtonvillage.com/event/bowls-coaching-2/2028-07-17/
LOCATION:Wrington Bowling Club\, The Rec\, Wrington\, United Kingdom
ATTACH;FMTTYPE=image/jpeg:https://wringtonvillage.com/wp-content/uploads/2025/07/bowling-club-event.jpeg
END:VEVENT
BEGIN:VEVENT
DTSTART;TZID=Europe/London:20280724T100000
DTEND;TZID=Europe/London:20280724T120000
DTSTAMP:20260421T032534
CREATED:20250725T105937Z
LAST-MODIFIED:20250913T070452Z
UID:10002672-1848045600-1848052800@wringtonvillage.com
SUMMARY:Bowls Coaching
DESCRIPTION:For anyone who wants to try or improve\, new or existing bowlers \nFree tea\, coffee and biscuits and conversation also available.
URL:https://wringtonvillage.com/event/bowls-coaching-2/2028-07-24/
LOCATION:Wrington Bowling Club\, The Rec\, Wrington\, United Kingdom
ATTACH;FMTTYPE=image/jpeg:https://wringtonvillage.com/wp-content/uploads/2025/07/bowling-club-event.jpeg
END:VEVENT
BEGIN:VEVENT
DTSTART;TZID=Europe/London:20280731T100000
DTEND;TZID=Europe/London:20280731T120000
DTSTAMP:20260421T032534
CREATED:20250725T105937Z
LAST-MODIFIED:20250913T070452Z
UID:10002673-1848650400-1848657600@wringtonvillage.com
SUMMARY:Bowls Coaching
DESCRIPTION:For anyone who wants to try or improve\, new or existing bowlers \nFree tea\, coffee and biscuits and conversation also available.
URL:https://wringtonvillage.com/event/bowls-coaching-2/2028-07-31/
LOCATION:Wrington Bowling Club\, The Rec\, Wrington\, United Kingdom
ATTACH;FMTTYPE=image/jpeg:https://wringtonvillage.com/wp-content/uploads/2025/07/bowling-club-event.jpeg
END:VEVENT
BEGIN:VEVENT
DTSTART;TZID=Europe/London:20280807T100000
DTEND;TZID=Europe/London:20280807T120000
DTSTAMP:20260421T032534
CREATED:20250725T105937Z
LAST-MODIFIED:20250913T070452Z
UID:10002674-1849255200-1849262400@wringtonvillage.com
SUMMARY:Bowls Coaching
DESCRIPTION:For anyone who wants to try or improve\, new or existing bowlers \nFree tea\, coffee and biscuits and conversation also available.
URL:https://wringtonvillage.com/event/bowls-coaching-2/2028-08-07/
LOCATION:Wrington Bowling Club\, The Rec\, Wrington\, United Kingdom
ATTACH;FMTTYPE=image/jpeg:https://wringtonvillage.com/wp-content/uploads/2025/07/bowling-club-event.jpeg
END:VEVENT
BEGIN:VEVENT
DTSTART;TZID=Europe/London:20280814T100000
DTEND;TZID=Europe/London:20280814T120000
DTSTAMP:20260421T032534
CREATED:20250725T105937Z
LAST-MODIFIED:20250913T070452Z
UID:10002675-1849860000-1849867200@wringtonvillage.com
SUMMARY:Bowls Coaching
DESCRIPTION:For anyone who wants to try or improve\, new or existing bowlers \nFree tea\, coffee and biscuits and conversation also available.
URL:https://wringtonvillage.com/event/bowls-coaching-2/2028-08-14/
LOCATION:Wrington Bowling Club\, The Rec\, Wrington\, United Kingdom
ATTACH;FMTTYPE=image/jpeg:https://wringtonvillage.com/wp-content/uploads/2025/07/bowling-club-event.jpeg
END:VEVENT
BEGIN:VEVENT
DTSTART;TZID=Europe/London:20280821T100000
DTEND;TZID=Europe/London:20280821T120000
DTSTAMP:20260421T032534
CREATED:20250725T105937Z
LAST-MODIFIED:20250913T070452Z
UID:10002676-1850464800-1850472000@wringtonvillage.com
SUMMARY:Bowls Coaching
DESCRIPTION:For anyone who wants to try or improve\, new or existing bowlers \nFree tea\, coffee and biscuits and conversation also available.
URL:https://wringtonvillage.com/event/bowls-coaching-2/2028-08-21/
LOCATION:Wrington Bowling Club\, The Rec\, Wrington\, United Kingdom
ATTACH;FMTTYPE=image/jpeg:https://wringtonvillage.com/wp-content/uploads/2025/07/bowling-club-event.jpeg
END:VEVENT
BEGIN:VEVENT
DTSTART;TZID=Europe/London:20280828T100000
DTEND;TZID=Europe/London:20280828T120000
DTSTAMP:20260421T032534
CREATED:20250725T105937Z
LAST-MODIFIED:20250913T070452Z
UID:10002677-1851069600-1851076800@wringtonvillage.com
SUMMARY:Bowls Coaching
DESCRIPTION:For anyone who wants to try or improve\, new or existing bowlers \nFree tea\, coffee and biscuits and conversation also available.
URL:https://wringtonvillage.com/event/bowls-coaching-2/2028-08-28/
LOCATION:Wrington Bowling Club\, The Rec\, Wrington\, United Kingdom
ATTACH;FMTTYPE=image/jpeg:https://wringtonvillage.com/wp-content/uploads/2025/07/bowling-club-event.jpeg
END:VEVENT
BEGIN:VEVENT
DTSTART;TZID=Europe/London:20280904T100000
DTEND;TZID=Europe/London:20280904T120000
DTSTAMP:20260421T032534
CREATED:20250725T105937Z
LAST-MODIFIED:20250913T070452Z
UID:10002678-1851674400-1851681600@wringtonvillage.com
SUMMARY:Bowls Coaching
DESCRIPTION:For anyone who wants to try or improve\, new or existing bowlers \nFree tea\, coffee and biscuits and conversation also available.
URL:https://wringtonvillage.com/event/bowls-coaching-2/2028-09-04/
LOCATION:Wrington Bowling Club\, The Rec\, Wrington\, United Kingdom
ATTACH;FMTTYPE=image/jpeg:https://wringtonvillage.com/wp-content/uploads/2025/07/bowling-club-event.jpeg
END:VEVENT
BEGIN:VEVENT
DTSTART;TZID=Europe/London:20280911T100000
DTEND;TZID=Europe/London:20280911T120000
DTSTAMP:20260421T032534
CREATED:20250725T105937Z
LAST-MODIFIED:20250913T070452Z
UID:10002679-1852279200-1852286400@wringtonvillage.com
SUMMARY:Bowls Coaching
DESCRIPTION:For anyone who wants to try or improve\, new or existing bowlers \nFree tea\, coffee and biscuits and conversation also available.
URL:https://wringtonvillage.com/event/bowls-coaching-2/2028-09-11/
LOCATION:Wrington Bowling Club\, The Rec\, Wrington\, United Kingdom
ATTACH;FMTTYPE=image/jpeg:https://wringtonvillage.com/wp-content/uploads/2025/07/bowling-club-event.jpeg
END:VEVENT
BEGIN:VEVENT
DTSTART;TZID=Europe/London:20280918T100000
DTEND;TZID=Europe/London:20280918T120000
DTSTAMP:20260421T032534
CREATED:20250725T105937Z
LAST-MODIFIED:20250913T070452Z
UID:10002680-1852884000-1852891200@wringtonvillage.com
SUMMARY:Bowls Coaching
DESCRIPTION:For anyone who wants to try or improve\, new or existing bowlers \nFree tea\, coffee and biscuits and conversation also available.
URL:https://wringtonvillage.com/event/bowls-coaching-2/2028-09-18/
LOCATION:Wrington Bowling Club\, The Rec\, Wrington\, United Kingdom
ATTACH;FMTTYPE=image/jpeg:https://wringtonvillage.com/wp-content/uploads/2025/07/bowling-club-event.jpeg
END:VEVENT
END:VCALENDAR