BEGIN:VCALENDAR
VERSION:2.0
PRODID:-//Wrington Village - ECPv6.15.20//NONSGML v1.0//EN
CALSCALE:GREGORIAN
METHOD:PUBLISH
X-WR-CALNAME:Wrington Village
X-ORIGINAL-URL:https://wringtonvillage.com
X-WR-CALDESC:Events for Wrington Village
REFRESH-INTERVAL;VALUE=DURATION:PT1H
X-Robots-Tag:noindex
X-PUBLISHED-TTL:PT1H
BEGIN:VTIMEZONE
TZID:Europe/London
BEGIN:DAYLIGHT
TZOFFSETFROM:+0000
TZOFFSETTO:+0100
TZNAME:BST
DTSTART:20280326T010000
END:DAYLIGHT
BEGIN:STANDARD
TZOFFSETFROM:+0100
TZOFFSETTO:+0000
TZNAME:GMT
DTSTART:20281029T010000
END:STANDARD
BEGIN:DAYLIGHT
TZOFFSETFROM:+0000
TZOFFSETTO:+0100
TZNAME:BST
DTSTART:20290325T010000
END:DAYLIGHT
BEGIN:STANDARD
TZOFFSETFROM:+0100
TZOFFSETTO:+0000
TZNAME:GMT
DTSTART:20291028T010000
END:STANDARD
BEGIN:DAYLIGHT
TZOFFSETFROM:+0000
TZOFFSETTO:+0100
TZNAME:BST
DTSTART:20300331T010000
END:DAYLIGHT
BEGIN:STANDARD
TZOFFSETFROM:+0100
TZOFFSETTO:+0000
TZNAME:GMT
DTSTART:20301027T010000
END:STANDARD
BEGIN:DAYLIGHT
TZOFFSETFROM:+0000
TZOFFSETTO:+0100
TZNAME:BST
DTSTART:20310330T010000
END:DAYLIGHT
BEGIN:STANDARD
TZOFFSETFROM:+0100
TZOFFSETTO:+0000
TZNAME:GMT
DTSTART:20311026T010000
END:STANDARD
END:VTIMEZONE
BEGIN:VEVENT
DTSTART;TZID=Europe/London:20291008T100000
DTEND;TZID=Europe/London:20291008T120000
DTSTAMP:20260420T223444
CREATED:20250725T105937Z
LAST-MODIFIED:20250913T070452Z
UID:10002735-1886148000-1886155200@wringtonvillage.com
SUMMARY:Bowls Coaching
DESCRIPTION:For anyone who wants to try or improve\, new or existing bowlers \nFree tea\, coffee and biscuits and conversation also available.
URL:https://wringtonvillage.com/event/bowls-coaching-2/2029-10-08/
LOCATION:Wrington Bowling Club\, The Rec\, Wrington\, United Kingdom
ATTACH;FMTTYPE=image/jpeg:https://wringtonvillage.com/wp-content/uploads/2025/07/bowling-club-event.jpeg
END:VEVENT
BEGIN:VEVENT
DTSTART;TZID=Europe/London:20291015T100000
DTEND;TZID=Europe/London:20291015T120000
DTSTAMP:20260420T223444
CREATED:20250725T105937Z
LAST-MODIFIED:20250913T070452Z
UID:10002736-1886752800-1886760000@wringtonvillage.com
SUMMARY:Bowls Coaching
DESCRIPTION:For anyone who wants to try or improve\, new or existing bowlers \nFree tea\, coffee and biscuits and conversation also available.
URL:https://wringtonvillage.com/event/bowls-coaching-2/2029-10-15/
LOCATION:Wrington Bowling Club\, The Rec\, Wrington\, United Kingdom
ATTACH;FMTTYPE=image/jpeg:https://wringtonvillage.com/wp-content/uploads/2025/07/bowling-club-event.jpeg
END:VEVENT
BEGIN:VEVENT
DTSTART;TZID=Europe/London:20291022T100000
DTEND;TZID=Europe/London:20291022T120000
DTSTAMP:20260420T223444
CREATED:20250725T105937Z
LAST-MODIFIED:20250913T070452Z
UID:10002737-1887357600-1887364800@wringtonvillage.com
SUMMARY:Bowls Coaching
DESCRIPTION:For anyone who wants to try or improve\, new or existing bowlers \nFree tea\, coffee and biscuits and conversation also available.
URL:https://wringtonvillage.com/event/bowls-coaching-2/2029-10-22/
LOCATION:Wrington Bowling Club\, The Rec\, Wrington\, United Kingdom
ATTACH;FMTTYPE=image/jpeg:https://wringtonvillage.com/wp-content/uploads/2025/07/bowling-club-event.jpeg
END:VEVENT
BEGIN:VEVENT
DTSTART;TZID=Europe/London:20291029T100000
DTEND;TZID=Europe/London:20291029T120000
DTSTAMP:20260420T223444
CREATED:20250725T105937Z
LAST-MODIFIED:20250913T070452Z
UID:10002738-1887962400-1887969600@wringtonvillage.com
SUMMARY:Bowls Coaching
DESCRIPTION:For anyone who wants to try or improve\, new or existing bowlers \nFree tea\, coffee and biscuits and conversation also available.
URL:https://wringtonvillage.com/event/bowls-coaching-2/2029-10-29/
LOCATION:Wrington Bowling Club\, The Rec\, Wrington\, United Kingdom
ATTACH;FMTTYPE=image/jpeg:https://wringtonvillage.com/wp-content/uploads/2025/07/bowling-club-event.jpeg
END:VEVENT
BEGIN:VEVENT
DTSTART;TZID=Europe/London:20291105T100000
DTEND;TZID=Europe/London:20291105T120000
DTSTAMP:20260420T223444
CREATED:20250725T105937Z
LAST-MODIFIED:20250913T070452Z
UID:10002739-1888567200-1888574400@wringtonvillage.com
SUMMARY:Bowls Coaching
DESCRIPTION:For anyone who wants to try or improve\, new or existing bowlers \nFree tea\, coffee and biscuits and conversation also available.
URL:https://wringtonvillage.com/event/bowls-coaching-2/2029-11-05/
LOCATION:Wrington Bowling Club\, The Rec\, Wrington\, United Kingdom
ATTACH;FMTTYPE=image/jpeg:https://wringtonvillage.com/wp-content/uploads/2025/07/bowling-club-event.jpeg
END:VEVENT
BEGIN:VEVENT
DTSTART;TZID=Europe/London:20291112T100000
DTEND;TZID=Europe/London:20291112T120000
DTSTAMP:20260420T223444
CREATED:20250725T105937Z
LAST-MODIFIED:20250913T070452Z
UID:10002740-1889172000-1889179200@wringtonvillage.com
SUMMARY:Bowls Coaching
DESCRIPTION:For anyone who wants to try or improve\, new or existing bowlers \nFree tea\, coffee and biscuits and conversation also available.
URL:https://wringtonvillage.com/event/bowls-coaching-2/2029-11-12/
LOCATION:Wrington Bowling Club\, The Rec\, Wrington\, United Kingdom
ATTACH;FMTTYPE=image/jpeg:https://wringtonvillage.com/wp-content/uploads/2025/07/bowling-club-event.jpeg
END:VEVENT
BEGIN:VEVENT
DTSTART;TZID=Europe/London:20291119T100000
DTEND;TZID=Europe/London:20291119T120000
DTSTAMP:20260420T223444
CREATED:20250725T105937Z
LAST-MODIFIED:20250913T070452Z
UID:10002741-1889776800-1889784000@wringtonvillage.com
SUMMARY:Bowls Coaching
DESCRIPTION:For anyone who wants to try or improve\, new or existing bowlers \nFree tea\, coffee and biscuits and conversation also available.
URL:https://wringtonvillage.com/event/bowls-coaching-2/2029-11-19/
LOCATION:Wrington Bowling Club\, The Rec\, Wrington\, United Kingdom
ATTACH;FMTTYPE=image/jpeg:https://wringtonvillage.com/wp-content/uploads/2025/07/bowling-club-event.jpeg
END:VEVENT
BEGIN:VEVENT
DTSTART;TZID=Europe/London:20291126T100000
DTEND;TZID=Europe/London:20291126T120000
DTSTAMP:20260420T223444
CREATED:20250725T105937Z
LAST-MODIFIED:20250913T070452Z
UID:10002742-1890381600-1890388800@wringtonvillage.com
SUMMARY:Bowls Coaching
DESCRIPTION:For anyone who wants to try or improve\, new or existing bowlers \nFree tea\, coffee and biscuits and conversation also available.
URL:https://wringtonvillage.com/event/bowls-coaching-2/2029-11-26/
LOCATION:Wrington Bowling Club\, The Rec\, Wrington\, United Kingdom
ATTACH;FMTTYPE=image/jpeg:https://wringtonvillage.com/wp-content/uploads/2025/07/bowling-club-event.jpeg
END:VEVENT
BEGIN:VEVENT
DTSTART;TZID=Europe/London:20291203T100000
DTEND;TZID=Europe/London:20291203T120000
DTSTAMP:20260420T223444
CREATED:20250725T105937Z
LAST-MODIFIED:20250913T070452Z
UID:10002743-1890986400-1890993600@wringtonvillage.com
SUMMARY:Bowls Coaching
DESCRIPTION:For anyone who wants to try or improve\, new or existing bowlers \nFree tea\, coffee and biscuits and conversation also available.
URL:https://wringtonvillage.com/event/bowls-coaching-2/2029-12-03/
LOCATION:Wrington Bowling Club\, The Rec\, Wrington\, United Kingdom
ATTACH;FMTTYPE=image/jpeg:https://wringtonvillage.com/wp-content/uploads/2025/07/bowling-club-event.jpeg
END:VEVENT
BEGIN:VEVENT
DTSTART;TZID=Europe/London:20291210T100000
DTEND;TZID=Europe/London:20291210T120000
DTSTAMP:20260420T223444
CREATED:20250725T105937Z
LAST-MODIFIED:20250913T070452Z
UID:10002744-1891591200-1891598400@wringtonvillage.com
SUMMARY:Bowls Coaching
DESCRIPTION:For anyone who wants to try or improve\, new or existing bowlers \nFree tea\, coffee and biscuits and conversation also available.
URL:https://wringtonvillage.com/event/bowls-coaching-2/2029-12-10/
LOCATION:Wrington Bowling Club\, The Rec\, Wrington\, United Kingdom
ATTACH;FMTTYPE=image/jpeg:https://wringtonvillage.com/wp-content/uploads/2025/07/bowling-club-event.jpeg
END:VEVENT
BEGIN:VEVENT
DTSTART;TZID=Europe/London:20291217T100000
DTEND;TZID=Europe/London:20291217T120000
DTSTAMP:20260420T223444
CREATED:20250725T105937Z
LAST-MODIFIED:20250913T070452Z
UID:10002745-1892196000-1892203200@wringtonvillage.com
SUMMARY:Bowls Coaching
DESCRIPTION:For anyone who wants to try or improve\, new or existing bowlers \nFree tea\, coffee and biscuits and conversation also available.
URL:https://wringtonvillage.com/event/bowls-coaching-2/2029-12-17/
LOCATION:Wrington Bowling Club\, The Rec\, Wrington\, United Kingdom
ATTACH;FMTTYPE=image/jpeg:https://wringtonvillage.com/wp-content/uploads/2025/07/bowling-club-event.jpeg
END:VEVENT
BEGIN:VEVENT
DTSTART;TZID=Europe/London:20291224T100000
DTEND;TZID=Europe/London:20291224T120000
DTSTAMP:20260420T223444
CREATED:20250725T105937Z
LAST-MODIFIED:20250913T070452Z
UID:10002746-1892800800-1892808000@wringtonvillage.com
SUMMARY:Bowls Coaching
DESCRIPTION:For anyone who wants to try or improve\, new or existing bowlers \nFree tea\, coffee and biscuits and conversation also available.
URL:https://wringtonvillage.com/event/bowls-coaching-2/2029-12-24/
LOCATION:Wrington Bowling Club\, The Rec\, Wrington\, United Kingdom
ATTACH;FMTTYPE=image/jpeg:https://wringtonvillage.com/wp-content/uploads/2025/07/bowling-club-event.jpeg
END:VEVENT
BEGIN:VEVENT
DTSTART;TZID=Europe/London:20291231T100000
DTEND;TZID=Europe/London:20291231T120000
DTSTAMP:20260420T223444
CREATED:20250725T105937Z
LAST-MODIFIED:20250913T070452Z
UID:10002747-1893405600-1893412800@wringtonvillage.com
SUMMARY:Bowls Coaching
DESCRIPTION:For anyone who wants to try or improve\, new or existing bowlers \nFree tea\, coffee and biscuits and conversation also available.
URL:https://wringtonvillage.com/event/bowls-coaching-2/2029-12-31/
LOCATION:Wrington Bowling Club\, The Rec\, Wrington\, United Kingdom
ATTACH;FMTTYPE=image/jpeg:https://wringtonvillage.com/wp-content/uploads/2025/07/bowling-club-event.jpeg
END:VEVENT
BEGIN:VEVENT
DTSTART;TZID=Europe/London:20300107T100000
DTEND;TZID=Europe/London:20300107T120000
DTSTAMP:20260420T223444
CREATED:20250725T105937Z
LAST-MODIFIED:20250913T070452Z
UID:10002748-1894010400-1894017600@wringtonvillage.com
SUMMARY:Bowls Coaching
DESCRIPTION:For anyone who wants to try or improve\, new or existing bowlers \nFree tea\, coffee and biscuits and conversation also available.
URL:https://wringtonvillage.com/event/bowls-coaching-2/2030-01-07/
LOCATION:Wrington Bowling Club\, The Rec\, Wrington\, United Kingdom
ATTACH;FMTTYPE=image/jpeg:https://wringtonvillage.com/wp-content/uploads/2025/07/bowling-club-event.jpeg
END:VEVENT
BEGIN:VEVENT
DTSTART;TZID=Europe/London:20300114T100000
DTEND;TZID=Europe/London:20300114T120000
DTSTAMP:20260420T223444
CREATED:20250725T105937Z
LAST-MODIFIED:20250913T070452Z
UID:10002749-1894615200-1894622400@wringtonvillage.com
SUMMARY:Bowls Coaching
DESCRIPTION:For anyone who wants to try or improve\, new or existing bowlers \nFree tea\, coffee and biscuits and conversation also available.
URL:https://wringtonvillage.com/event/bowls-coaching-2/2030-01-14/
LOCATION:Wrington Bowling Club\, The Rec\, Wrington\, United Kingdom
ATTACH;FMTTYPE=image/jpeg:https://wringtonvillage.com/wp-content/uploads/2025/07/bowling-club-event.jpeg
END:VEVENT
BEGIN:VEVENT
DTSTART;TZID=Europe/London:20300121T100000
DTEND;TZID=Europe/London:20300121T120000
DTSTAMP:20260420T223444
CREATED:20250725T105937Z
LAST-MODIFIED:20250913T070452Z
UID:10002750-1895220000-1895227200@wringtonvillage.com
SUMMARY:Bowls Coaching
DESCRIPTION:For anyone who wants to try or improve\, new or existing bowlers \nFree tea\, coffee and biscuits and conversation also available.
URL:https://wringtonvillage.com/event/bowls-coaching-2/2030-01-21/
LOCATION:Wrington Bowling Club\, The Rec\, Wrington\, United Kingdom
ATTACH;FMTTYPE=image/jpeg:https://wringtonvillage.com/wp-content/uploads/2025/07/bowling-club-event.jpeg
END:VEVENT
BEGIN:VEVENT
DTSTART;TZID=Europe/London:20300128T100000
DTEND;TZID=Europe/London:20300128T120000
DTSTAMP:20260420T223444
CREATED:20250725T105937Z
LAST-MODIFIED:20250913T070452Z
UID:10002751-1895824800-1895832000@wringtonvillage.com
SUMMARY:Bowls Coaching
DESCRIPTION:For anyone who wants to try or improve\, new or existing bowlers \nFree tea\, coffee and biscuits and conversation also available.
URL:https://wringtonvillage.com/event/bowls-coaching-2/2030-01-28/
LOCATION:Wrington Bowling Club\, The Rec\, Wrington\, United Kingdom
ATTACH;FMTTYPE=image/jpeg:https://wringtonvillage.com/wp-content/uploads/2025/07/bowling-club-event.jpeg
END:VEVENT
BEGIN:VEVENT
DTSTART;TZID=Europe/London:20300204T100000
DTEND;TZID=Europe/London:20300204T120000
DTSTAMP:20260420T223444
CREATED:20250725T105937Z
LAST-MODIFIED:20250913T070452Z
UID:10002752-1896429600-1896436800@wringtonvillage.com
SUMMARY:Bowls Coaching
DESCRIPTION:For anyone who wants to try or improve\, new or existing bowlers \nFree tea\, coffee and biscuits and conversation also available.
URL:https://wringtonvillage.com/event/bowls-coaching-2/2030-02-04/
LOCATION:Wrington Bowling Club\, The Rec\, Wrington\, United Kingdom
ATTACH;FMTTYPE=image/jpeg:https://wringtonvillage.com/wp-content/uploads/2025/07/bowling-club-event.jpeg
END:VEVENT
BEGIN:VEVENT
DTSTART;TZID=Europe/London:20300211T100000
DTEND;TZID=Europe/London:20300211T120000
DTSTAMP:20260420T223444
CREATED:20250725T105937Z
LAST-MODIFIED:20250913T070452Z
UID:10002753-1897034400-1897041600@wringtonvillage.com
SUMMARY:Bowls Coaching
DESCRIPTION:For anyone who wants to try or improve\, new or existing bowlers \nFree tea\, coffee and biscuits and conversation also available.
URL:https://wringtonvillage.com/event/bowls-coaching-2/2030-02-11/
LOCATION:Wrington Bowling Club\, The Rec\, Wrington\, United Kingdom
ATTACH;FMTTYPE=image/jpeg:https://wringtonvillage.com/wp-content/uploads/2025/07/bowling-club-event.jpeg
END:VEVENT
BEGIN:VEVENT
DTSTART;TZID=Europe/London:20300218T100000
DTEND;TZID=Europe/London:20300218T120000
DTSTAMP:20260420T223444
CREATED:20250725T105937Z
LAST-MODIFIED:20250913T070452Z
UID:10002754-1897639200-1897646400@wringtonvillage.com
SUMMARY:Bowls Coaching
DESCRIPTION:For anyone who wants to try or improve\, new or existing bowlers \nFree tea\, coffee and biscuits and conversation also available.
URL:https://wringtonvillage.com/event/bowls-coaching-2/2030-02-18/
LOCATION:Wrington Bowling Club\, The Rec\, Wrington\, United Kingdom
ATTACH;FMTTYPE=image/jpeg:https://wringtonvillage.com/wp-content/uploads/2025/07/bowling-club-event.jpeg
END:VEVENT
BEGIN:VEVENT
DTSTART;TZID=Europe/London:20300225T100000
DTEND;TZID=Europe/London:20300225T120000
DTSTAMP:20260420T223444
CREATED:20250725T105937Z
LAST-MODIFIED:20250913T070452Z
UID:10002755-1898244000-1898251200@wringtonvillage.com
SUMMARY:Bowls Coaching
DESCRIPTION:For anyone who wants to try or improve\, new or existing bowlers \nFree tea\, coffee and biscuits and conversation also available.
URL:https://wringtonvillage.com/event/bowls-coaching-2/2030-02-25/
LOCATION:Wrington Bowling Club\, The Rec\, Wrington\, United Kingdom
ATTACH;FMTTYPE=image/jpeg:https://wringtonvillage.com/wp-content/uploads/2025/07/bowling-club-event.jpeg
END:VEVENT
BEGIN:VEVENT
DTSTART;TZID=Europe/London:20300304T100000
DTEND;TZID=Europe/London:20300304T120000
DTSTAMP:20260420T223444
CREATED:20250725T105937Z
LAST-MODIFIED:20250913T070452Z
UID:10002756-1898848800-1898856000@wringtonvillage.com
SUMMARY:Bowls Coaching
DESCRIPTION:For anyone who wants to try or improve\, new or existing bowlers \nFree tea\, coffee and biscuits and conversation also available.
URL:https://wringtonvillage.com/event/bowls-coaching-2/2030-03-04/
LOCATION:Wrington Bowling Club\, The Rec\, Wrington\, United Kingdom
ATTACH;FMTTYPE=image/jpeg:https://wringtonvillage.com/wp-content/uploads/2025/07/bowling-club-event.jpeg
END:VEVENT
BEGIN:VEVENT
DTSTART;TZID=Europe/London:20300311T100000
DTEND;TZID=Europe/London:20300311T120000
DTSTAMP:20260420T223444
CREATED:20250725T105937Z
LAST-MODIFIED:20250913T070452Z
UID:10002757-1899453600-1899460800@wringtonvillage.com
SUMMARY:Bowls Coaching
DESCRIPTION:For anyone who wants to try or improve\, new or existing bowlers \nFree tea\, coffee and biscuits and conversation also available.
URL:https://wringtonvillage.com/event/bowls-coaching-2/2030-03-11/
LOCATION:Wrington Bowling Club\, The Rec\, Wrington\, United Kingdom
ATTACH;FMTTYPE=image/jpeg:https://wringtonvillage.com/wp-content/uploads/2025/07/bowling-club-event.jpeg
END:VEVENT
BEGIN:VEVENT
DTSTART;TZID=Europe/London:20300318T100000
DTEND;TZID=Europe/London:20300318T120000
DTSTAMP:20260420T223444
CREATED:20250725T105937Z
LAST-MODIFIED:20250913T070452Z
UID:10002758-1900058400-1900065600@wringtonvillage.com
SUMMARY:Bowls Coaching
DESCRIPTION:For anyone who wants to try or improve\, new or existing bowlers \nFree tea\, coffee and biscuits and conversation also available.
URL:https://wringtonvillage.com/event/bowls-coaching-2/2030-03-18/
LOCATION:Wrington Bowling Club\, The Rec\, Wrington\, United Kingdom
ATTACH;FMTTYPE=image/jpeg:https://wringtonvillage.com/wp-content/uploads/2025/07/bowling-club-event.jpeg
END:VEVENT
BEGIN:VEVENT
DTSTART;TZID=Europe/London:20300325T100000
DTEND;TZID=Europe/London:20300325T120000
DTSTAMP:20260420T223444
CREATED:20250725T105937Z
LAST-MODIFIED:20250913T070452Z
UID:10002759-1900663200-1900670400@wringtonvillage.com
SUMMARY:Bowls Coaching
DESCRIPTION:For anyone who wants to try or improve\, new or existing bowlers \nFree tea\, coffee and biscuits and conversation also available.
URL:https://wringtonvillage.com/event/bowls-coaching-2/2030-03-25/
LOCATION:Wrington Bowling Club\, The Rec\, Wrington\, United Kingdom
ATTACH;FMTTYPE=image/jpeg:https://wringtonvillage.com/wp-content/uploads/2025/07/bowling-club-event.jpeg
END:VEVENT
BEGIN:VEVENT
DTSTART;TZID=Europe/London:20300401T100000
DTEND;TZID=Europe/London:20300401T120000
DTSTAMP:20260420T223445
CREATED:20250725T105937Z
LAST-MODIFIED:20250913T070452Z
UID:10002760-1901268000-1901275200@wringtonvillage.com
SUMMARY:Bowls Coaching
DESCRIPTION:For anyone who wants to try or improve\, new or existing bowlers \nFree tea\, coffee and biscuits and conversation also available.
URL:https://wringtonvillage.com/event/bowls-coaching-2/2030-04-01/
LOCATION:Wrington Bowling Club\, The Rec\, Wrington\, United Kingdom
ATTACH;FMTTYPE=image/jpeg:https://wringtonvillage.com/wp-content/uploads/2025/07/bowling-club-event.jpeg
END:VEVENT
BEGIN:VEVENT
DTSTART;TZID=Europe/London:20300408T100000
DTEND;TZID=Europe/London:20300408T120000
DTSTAMP:20260420T223445
CREATED:20250725T105937Z
LAST-MODIFIED:20250913T070452Z
UID:10002761-1901872800-1901880000@wringtonvillage.com
SUMMARY:Bowls Coaching
DESCRIPTION:For anyone who wants to try or improve\, new or existing bowlers \nFree tea\, coffee and biscuits and conversation also available.
URL:https://wringtonvillage.com/event/bowls-coaching-2/2030-04-08/
LOCATION:Wrington Bowling Club\, The Rec\, Wrington\, United Kingdom
ATTACH;FMTTYPE=image/jpeg:https://wringtonvillage.com/wp-content/uploads/2025/07/bowling-club-event.jpeg
END:VEVENT
BEGIN:VEVENT
DTSTART;TZID=Europe/London:20300415T100000
DTEND;TZID=Europe/London:20300415T120000
DTSTAMP:20260420T223445
CREATED:20250725T105937Z
LAST-MODIFIED:20250913T070452Z
UID:10002762-1902477600-1902484800@wringtonvillage.com
SUMMARY:Bowls Coaching
DESCRIPTION:For anyone who wants to try or improve\, new or existing bowlers \nFree tea\, coffee and biscuits and conversation also available.
URL:https://wringtonvillage.com/event/bowls-coaching-2/2030-04-15/
LOCATION:Wrington Bowling Club\, The Rec\, Wrington\, United Kingdom
ATTACH;FMTTYPE=image/jpeg:https://wringtonvillage.com/wp-content/uploads/2025/07/bowling-club-event.jpeg
END:VEVENT
BEGIN:VEVENT
DTSTART;TZID=Europe/London:20300422T100000
DTEND;TZID=Europe/London:20300422T120000
DTSTAMP:20260420T223445
CREATED:20250725T105937Z
LAST-MODIFIED:20250913T070452Z
UID:10002763-1903082400-1903089600@wringtonvillage.com
SUMMARY:Bowls Coaching
DESCRIPTION:For anyone who wants to try or improve\, new or existing bowlers \nFree tea\, coffee and biscuits and conversation also available.
URL:https://wringtonvillage.com/event/bowls-coaching-2/2030-04-22/
LOCATION:Wrington Bowling Club\, The Rec\, Wrington\, United Kingdom
ATTACH;FMTTYPE=image/jpeg:https://wringtonvillage.com/wp-content/uploads/2025/07/bowling-club-event.jpeg
END:VEVENT
BEGIN:VEVENT
DTSTART;TZID=Europe/London:20300429T100000
DTEND;TZID=Europe/London:20300429T120000
DTSTAMP:20260420T223445
CREATED:20250725T105937Z
LAST-MODIFIED:20250913T070452Z
UID:10002764-1903687200-1903694400@wringtonvillage.com
SUMMARY:Bowls Coaching
DESCRIPTION:For anyone who wants to try or improve\, new or existing bowlers \nFree tea\, coffee and biscuits and conversation also available.
URL:https://wringtonvillage.com/event/bowls-coaching-2/2030-04-29/
LOCATION:Wrington Bowling Club\, The Rec\, Wrington\, United Kingdom
ATTACH;FMTTYPE=image/jpeg:https://wringtonvillage.com/wp-content/uploads/2025/07/bowling-club-event.jpeg
END:VEVENT
END:VCALENDAR